BEGIN:VCALENDAR
VERSION:2.0
PRODID:-//Florida Society of Certified Public Managers - ECPv6.15.20//NONSGML v1.0//EN
CALSCALE:GREGORIAN
METHOD:PUBLISH
X-ORIGINAL-URL:https://fscpm.org
X-WR-CALDESC:Events for Florida Society of Certified Public Managers
REFRESH-INTERVAL;VALUE=DURATION:PT1H
X-Robots-Tag:noindex
X-PUBLISHED-TTL:PT1H
BEGIN:VTIMEZONE
TZID:America/New_York
BEGIN:DAYLIGHT
TZOFFSETFROM:-0500
TZOFFSETTO:-0400
TZNAME:EDT
DTSTART:20200308T070000
END:DAYLIGHT
BEGIN:STANDARD
TZOFFSETFROM:-0400
TZOFFSETTO:-0500
TZNAME:EST
DTSTART:20201101T060000
END:STANDARD
BEGIN:DAYLIGHT
TZOFFSETFROM:-0500
TZOFFSETTO:-0400
TZNAME:EDT
DTSTART:20210314T070000
END:DAYLIGHT
BEGIN:STANDARD
TZOFFSETFROM:-0400
TZOFFSETTO:-0500
TZNAME:EST
DTSTART:20211107T060000
END:STANDARD
BEGIN:DAYLIGHT
TZOFFSETFROM:-0500
TZOFFSETTO:-0400
TZNAME:EDT
DTSTART:20220313T070000
END:DAYLIGHT
BEGIN:STANDARD
TZOFFSETFROM:-0400
TZOFFSETTO:-0500
TZNAME:EST
DTSTART:20221106T060000
END:STANDARD
BEGIN:DAYLIGHT
TZOFFSETFROM:-0500
TZOFFSETTO:-0400
TZNAME:EDT
DTSTART:20230312T070000
END:DAYLIGHT
BEGIN:STANDARD
TZOFFSETFROM:-0400
TZOFFSETTO:-0500
TZNAME:EST
DTSTART:20231105T060000
END:STANDARD
BEGIN:DAYLIGHT
TZOFFSETFROM:-0500
TZOFFSETTO:-0400
TZNAME:EDT
DTSTART:20240310T070000
END:DAYLIGHT
BEGIN:STANDARD
TZOFFSETFROM:-0400
TZOFFSETTO:-0500
TZNAME:EST
DTSTART:20241103T060000
END:STANDARD
END:VTIMEZONE
BEGIN:VEVENT
DTSTART;TZID=America/New_York:20231013T113000
DTEND;TZID=America/New_York:20231013T123000
DTSTAMP:20260423T144606
CREATED:20230106T181042Z
LAST-MODIFIED:20230106T181042Z
UID:10000285-1697196600-1697200200@fscpm.org
SUMMARY:Heart of Florida Chapter Board Meeting via Zoom
DESCRIPTION:
URL:https://fscpm.org/event/heart-of-florida-chapter-board-meeting-via-zoom-4/
LOCATION:Via Zoom
CATEGORIES:Heart of Florida
END:VEVENT
BEGIN:VEVENT
DTSTART;TZID=America/New_York:20230714T113000
DTEND;TZID=America/New_York:20230714T123000
DTSTAMP:20260423T144606
CREATED:20230106T180947Z
LAST-MODIFIED:20230106T180947Z
UID:10000284-1689334200-1689337800@fscpm.org
SUMMARY:Heart of Florida Chapter Board Meeting via Zoom
DESCRIPTION:
URL:https://fscpm.org/event/heart-of-florida-chapter-board-meeting-via-zoom-3/
LOCATION:Via Zoom
CATEGORIES:Heart of Florida
END:VEVENT
BEGIN:VEVENT
DTSTART;TZID=America/New_York:20230414T120000
DTEND;TZID=America/New_York:20230414T130000
DTSTAMP:20260423T144606
CREATED:20230310T175540Z
LAST-MODIFIED:20230310T175540Z
UID:10000470-1681473600-1681477200@fscpm.org
SUMMARY:Heart of Florida Membership Lunch-n-Learn
DESCRIPTION:
URL:https://fscpm.org/event/heart-of-florida-membership-lunch-n-learn/
CATEGORIES:Heart of Florida
END:VEVENT
BEGIN:VEVENT
DTSTART;TZID=America/New_York:20230414T113000
DTEND;TZID=America/New_York:20230414T120000
DTSTAMP:20260423T144606
CREATED:20230106T180837Z
LAST-MODIFIED:20230310T175642Z
UID:10000283-1681471800-1681473600@fscpm.org
SUMMARY:Heart of Florida Chapter Board Meeting via Zoom
DESCRIPTION:
URL:https://fscpm.org/event/heart-of-florida-chapter-board-meeting-via-zoom-2/
LOCATION:Via Zoom
CATEGORIES:Heart of Florida
END:VEVENT
BEGIN:VEVENT
DTSTART;TZID=America/New_York:20230106T113000
DTEND;TZID=America/New_York:20230106T123000
DTSTAMP:20260423T144606
CREATED:20221206T160412Z
LAST-MODIFIED:20221206T160412Z
UID:10000455-1673004600-1673008200@fscpm.org
SUMMARY:Heart of Florida Chapter Board Meeting via Zoom
DESCRIPTION:
URL:https://fscpm.org/event/heart-of-florida-chapter-board-meeting-via-zoom/
CATEGORIES:Heart of Florida
END:VEVENT
BEGIN:VEVENT
DTSTART;TZID=America/New_York:20221111T120000
DTEND;TZID=America/New_York:20221111T130000
DTSTAMP:20260423T144606
CREATED:20211229T205235Z
LAST-MODIFIED:20211229T205235Z
UID:10000400-1668168000-1668171600@fscpm.org
SUMMARY:Heart of Florida Chapter Board Meeting via Zoom
DESCRIPTION:
URL:https://fscpm.org/event/heart-of-florida-chapter-board-meeting-via-zoom-10/
LOCATION:Via Zoom
CATEGORIES:Heart of Florida
END:VEVENT
BEGIN:VEVENT
DTSTART;TZID=America/New_York:20220909T120000
DTEND;TZID=America/New_York:20220909T130000
DTSTAMP:20260423T144606
CREATED:20211229T204531Z
LAST-MODIFIED:20211229T204531Z
UID:10000399-1662724800-1662728400@fscpm.org
SUMMARY:Heart of Florida Chapter Board Meeting via Zoom
DESCRIPTION:
URL:https://fscpm.org/event/heart-of-florida-chapter-board-meeting-via-zoom-9/
LOCATION:Via Zoom
CATEGORIES:Heart of Florida
END:VEVENT
BEGIN:VEVENT
DTSTART;TZID=America/New_York:20220708T120000
DTEND;TZID=America/New_York:20220708T130000
DTSTAMP:20260423T144606
CREATED:20211229T204210Z
LAST-MODIFIED:20211229T204210Z
UID:10000398-1657281600-1657285200@fscpm.org
SUMMARY:Heart of Florida Chapter Board Meeting via Zoom
DESCRIPTION:
URL:https://fscpm.org/event/heart-of-florida-chapter-board-meeting-via-zoom-8/
LOCATION:Via Zoom
CATEGORIES:Heart of Florida
END:VEVENT
BEGIN:VEVENT
DTSTART;TZID=America/New_York:20220513T120000
DTEND;TZID=America/New_York:20220513T130000
DTSTAMP:20260423T144606
CREATED:20211229T203837Z
LAST-MODIFIED:20211229T203837Z
UID:10000397-1652443200-1652446800@fscpm.org
SUMMARY:Heart of Florida Chapter Board Meeting via Zoom
DESCRIPTION:
URL:https://fscpm.org/event/heart-of-florida-chapter-board-meeting-via-zoom-7/
LOCATION:Via Zoom
CATEGORIES:Heart of Florida
END:VEVENT
BEGIN:VEVENT
DTSTART;TZID=America/New_York:20220311T120000
DTEND;TZID=America/New_York:20220311T130000
DTSTAMP:20260423T144606
CREATED:20220225T204855Z
LAST-MODIFIED:20220225T204855Z
UID:10000411-1647000000-1647003600@fscpm.org
SUMMARY:Heart of Florida General Membership Chapter Meeting via Zoom
DESCRIPTION:
URL:https://fscpm.org/event/heart-of-florida-general-membership-chapter-meeting-via-zoom/
CATEGORIES:Heart of Florida
END:VEVENT
BEGIN:VEVENT
DTSTART;TZID=America/New_York:20220311T120000
DTEND;TZID=America/New_York:20220311T130000
DTSTAMP:20260423T144606
CREATED:20211229T203628Z
LAST-MODIFIED:20211229T203628Z
UID:10000396-1647000000-1647003600@fscpm.org
SUMMARY:Heart of Florida Chapter Board Meeting via Zoom
DESCRIPTION:
URL:https://fscpm.org/event/heart-of-florida-chapter-board-meeting-via-zoom-6/
LOCATION:Via Zoom
CATEGORIES:Heart of Florida
END:VEVENT
BEGIN:VEVENT
DTSTART;TZID=America/New_York:20220121T120000
DTEND;TZID=America/New_York:20220121T130000
DTSTAMP:20260423T144606
CREATED:20211228T153010Z
LAST-MODIFIED:20231110T181549Z
UID:10000394-1642766400-1642770000@fscpm.org
SUMMARY:Gaining & Sustaining Credibility: How to Earn the Trust and Confidence of Others
DESCRIPTION:Southwest Florida Chapter is hosting a continuing education event.  This training is being held via Zoom.  \nAll CPMs and their colleagues are welcome!!  The link will be provided after registration is completed. \nWhen:  January 21\, 2022 \nTime: 12:00 PM – 1:00 PM EST \nFREE admission for FSCPM Members with active paid membership – Select the number of members you are registering and their info to RSVP for FREE \n$5.00 for Non-Members – Click the Get Ticket button to register and pay the admission fee via PayPal. \nClick the link below to download the PDF with more information. \nEvent Information
URL:https://fscpm.org/event/gaining-sustaining-credibility-how-to-earn-the-trust-and-confidence-of-others/
CATEGORIES:FSCPM,Gateway Chapter,Heart of Florida,North Florida Chapter,Southwest Florida Chapter,Suncoast Chapter,Training
END:VEVENT
BEGIN:VEVENT
DTSTART;TZID=America/New_York:20220114T120000
DTEND;TZID=America/New_York:20220114T130000
DTSTAMP:20260423T144606
CREATED:20211229T203044Z
LAST-MODIFIED:20211229T203044Z
UID:10000395-1642161600-1642165200@fscpm.org
SUMMARY:Heart of Florida Chapter Board Meeting via Zoom
DESCRIPTION:
URL:https://fscpm.org/event/heart-of-florida-chapter-board-meeting-via-zoom-5/
LOCATION:Via Zoom
CATEGORIES:Heart of Florida
END:VEVENT
BEGIN:VEVENT
DTSTART;TZID=America/New_York:20211210T113000
DTEND;TZID=America/New_York:20211210T130000
DTSTAMP:20260423T144606
CREATED:20201214T132953Z
LAST-MODIFIED:20201214T132953Z
UID:10000354-1639135800-1639141200@fscpm.org
SUMMARY:Heart of Florida Chapter Board & Membership Meeting via Zoom
DESCRIPTION:
URL:https://fscpm.org/event/heart-of-florida-chapter-board-membership-meeting-via-zoom/2021-12-10/
CATEGORIES:Heart of Florida
END:VEVENT
BEGIN:VEVENT
DTSTART;TZID=America/New_York:20211112T113000
DTEND;TZID=America/New_York:20211112T130000
DTSTAMP:20260423T144606
CREATED:20201214T132953Z
LAST-MODIFIED:20201214T132953Z
UID:10000353-1636716600-1636722000@fscpm.org
SUMMARY:Heart of Florida Chapter Board & Membership Meeting via Zoom
DESCRIPTION:
URL:https://fscpm.org/event/heart-of-florida-chapter-board-membership-meeting-via-zoom/2021-11-12/
CATEGORIES:Heart of Florida
END:VEVENT
BEGIN:VEVENT
DTSTART;TZID=America/New_York:20211105T120000
DTEND;TZID=America/New_York:20211105T130000
DTSTAMP:20260423T144606
CREATED:20211027T124215Z
LAST-MODIFIED:20231110T181524Z
UID:10000391-1636113600-1636117200@fscpm.org
SUMMARY:Lunch & Learn with HFSCPM
DESCRIPTION:Lunch and Learn with HFSCPM!! \nPlease spread the word about the upcoming professional development session with Leonard Wood scheduled for November 5 at noon.  This training is sponsored by the Heart of Florida chapter. He’ll be presenting “Professional Maturity 101” via Zoom.  HFSCPM invites all fellow FSCPM members from around the state to join them for this event.  The Zoom meeting ID and passcode are at the bottom of the flyer.  If there are any questions\, feel free to reach out to Nicole Walker\, HFSCPM Professional Development Director. \nFeel free to download the flyer and forward to your chapter members! \n  \n  \nHFCPM 11.05.21 Lunch & Learn
URL:https://fscpm.org/event/lunch-learn-with-hfscpm/
LOCATION:Via Zoom
CATEGORIES:FSCPM,Heart of Florida,Training
END:VEVENT
BEGIN:VEVENT
DTSTART;TZID=America/New_York:20211008T113000
DTEND;TZID=America/New_York:20211008T130000
DTSTAMP:20260423T144606
CREATED:20201214T132953Z
LAST-MODIFIED:20201214T132953Z
UID:10000352-1633692600-1633698000@fscpm.org
SUMMARY:Heart of Florida Chapter Board & Membership Meeting via Zoom
DESCRIPTION:
URL:https://fscpm.org/event/heart-of-florida-chapter-board-membership-meeting-via-zoom/2021-10-08/
CATEGORIES:Heart of Florida
END:VEVENT
BEGIN:VEVENT
DTSTART;TZID=America/New_York:20210813T113000
DTEND;TZID=America/New_York:20210813T130000
DTSTAMP:20260423T144606
CREATED:20201214T132953Z
LAST-MODIFIED:20201214T132953Z
UID:10000351-1628854200-1628859600@fscpm.org
SUMMARY:Heart of Florida Chapter Board & Membership Meeting via Zoom
DESCRIPTION:
URL:https://fscpm.org/event/heart-of-florida-chapter-board-membership-meeting-via-zoom/2021-08-13/
CATEGORIES:Heart of Florida
END:VEVENT
BEGIN:VEVENT
DTSTART;TZID=America/New_York:20210709T113000
DTEND;TZID=America/New_York:20210709T130000
DTSTAMP:20260423T144606
CREATED:20201214T132953Z
LAST-MODIFIED:20201214T132953Z
UID:10000350-1625830200-1625835600@fscpm.org
SUMMARY:Heart of Florida Chapter Board & Membership Meeting via Zoom
DESCRIPTION:
URL:https://fscpm.org/event/heart-of-florida-chapter-board-membership-meeting-via-zoom/2021-07-09/
CATEGORIES:Heart of Florida
END:VEVENT
BEGIN:VEVENT
DTSTART;TZID=America/New_York:20210611T113000
DTEND;TZID=America/New_York:20210611T130000
DTSTAMP:20260423T144606
CREATED:20201214T132953Z
LAST-MODIFIED:20201214T132953Z
UID:10000349-1623411000-1623416400@fscpm.org
SUMMARY:Heart of Florida Chapter Board & Membership Meeting via Zoom
DESCRIPTION:
URL:https://fscpm.org/event/heart-of-florida-chapter-board-membership-meeting-via-zoom/2021-06-11/
CATEGORIES:Heart of Florida
END:VEVENT
BEGIN:VEVENT
DTSTART;TZID=America/New_York:20210514T113000
DTEND;TZID=America/New_York:20210514T130000
DTSTAMP:20260423T144606
CREATED:20201214T132953Z
LAST-MODIFIED:20201214T132953Z
UID:10000348-1620991800-1620997200@fscpm.org
SUMMARY:Heart of Florida Chapter Board & Membership Meeting via Zoom
DESCRIPTION:
URL:https://fscpm.org/event/heart-of-florida-chapter-board-membership-meeting-via-zoom/2021-05-14/
CATEGORIES:Heart of Florida
END:VEVENT
BEGIN:VEVENT
DTSTART;TZID=America/New_York:20210409T113000
DTEND;TZID=America/New_York:20210409T130000
DTSTAMP:20260423T144606
CREATED:20201214T132953Z
LAST-MODIFIED:20201214T132953Z
UID:10000347-1617967800-1617973200@fscpm.org
SUMMARY:Heart of Florida Chapter Board & Membership Meeting via Zoom
DESCRIPTION:
URL:https://fscpm.org/event/heart-of-florida-chapter-board-membership-meeting-via-zoom/2021-04-09/
CATEGORIES:Heart of Florida
END:VEVENT
BEGIN:VEVENT
DTSTART;TZID=America/New_York:20210312T113000
DTEND;TZID=America/New_York:20210312T130000
DTSTAMP:20260423T144606
CREATED:20201214T132953Z
LAST-MODIFIED:20201214T132953Z
UID:10000346-1615548600-1615554000@fscpm.org
SUMMARY:Heart of Florida Chapter Board & Membership Meeting via Zoom
DESCRIPTION:
URL:https://fscpm.org/event/heart-of-florida-chapter-board-membership-meeting-via-zoom/2021-03-12/
CATEGORIES:Heart of Florida
END:VEVENT
BEGIN:VEVENT
DTSTART;TZID=America/New_York:20210212T113000
DTEND;TZID=America/New_York:20210212T130000
DTSTAMP:20260423T144606
CREATED:20201214T132953Z
LAST-MODIFIED:20201214T132953Z
UID:10000345-1613129400-1613134800@fscpm.org
SUMMARY:Heart of Florida Chapter Board & Membership Meeting via Zoom
DESCRIPTION:
URL:https://fscpm.org/event/heart-of-florida-chapter-board-membership-meeting-via-zoom/2021-02-12/
CATEGORIES:Heart of Florida
END:VEVENT
BEGIN:VEVENT
DTSTART;TZID=America/New_York:20210108T113000
DTEND;TZID=America/New_York:20210108T130000
DTSTAMP:20260423T144606
CREATED:20201214T132953Z
LAST-MODIFIED:20201214T132953Z
UID:10000344-1610105400-1610110800@fscpm.org
SUMMARY:Heart of Florida Chapter Board & Membership Meeting via Zoom
DESCRIPTION:
URL:https://fscpm.org/event/heart-of-florida-chapter-board-membership-meeting-via-zoom/2021-01-08/
CATEGORIES:Heart of Florida
END:VEVENT
END:VCALENDAR