BEGIN:VCALENDAR
VERSION:2.0
PRODID:-//Florida Society of Certified Public Managers - ECPv6.15.20//NONSGML v1.0//EN
CALSCALE:GREGORIAN
METHOD:PUBLISH
X-WR-CALNAME:Florida Society of Certified Public Managers
X-ORIGINAL-URL:https://fscpm.org
X-WR-CALDESC:Events for Florida Society of Certified Public Managers
REFRESH-INTERVAL;VALUE=DURATION:PT1H
X-Robots-Tag:noindex
X-PUBLISHED-TTL:PT1H
BEGIN:VTIMEZONE
TZID:America/New_York
BEGIN:DAYLIGHT
TZOFFSETFROM:-0500
TZOFFSETTO:-0400
TZNAME:EDT
DTSTART:20210314T070000
END:DAYLIGHT
BEGIN:STANDARD
TZOFFSETFROM:-0400
TZOFFSETTO:-0500
TZNAME:EST
DTSTART:20211107T060000
END:STANDARD
BEGIN:DAYLIGHT
TZOFFSETFROM:-0500
TZOFFSETTO:-0400
TZNAME:EDT
DTSTART:20220313T070000
END:DAYLIGHT
BEGIN:STANDARD
TZOFFSETFROM:-0400
TZOFFSETTO:-0500
TZNAME:EST
DTSTART:20221106T060000
END:STANDARD
BEGIN:DAYLIGHT
TZOFFSETFROM:-0500
TZOFFSETTO:-0400
TZNAME:EDT
DTSTART:20230312T070000
END:DAYLIGHT
BEGIN:STANDARD
TZOFFSETFROM:-0400
TZOFFSETTO:-0500
TZNAME:EST
DTSTART:20231105T060000
END:STANDARD
BEGIN:DAYLIGHT
TZOFFSETFROM:-0500
TZOFFSETTO:-0400
TZNAME:EDT
DTSTART:20240310T070000
END:DAYLIGHT
BEGIN:STANDARD
TZOFFSETFROM:-0400
TZOFFSETTO:-0500
TZNAME:EST
DTSTART:20241103T060000
END:STANDARD
BEGIN:DAYLIGHT
TZOFFSETFROM:-0500
TZOFFSETTO:-0400
TZNAME:EDT
DTSTART:20250309T070000
END:DAYLIGHT
BEGIN:STANDARD
TZOFFSETFROM:-0400
TZOFFSETTO:-0500
TZNAME:EST
DTSTART:20251102T060000
END:STANDARD
BEGIN:DAYLIGHT
TZOFFSETFROM:-0500
TZOFFSETTO:-0400
TZNAME:EDT
DTSTART:20260308T070000
END:DAYLIGHT
BEGIN:STANDARD
TZOFFSETFROM:-0400
TZOFFSETTO:-0500
TZNAME:EST
DTSTART:20261101T060000
END:STANDARD
END:VTIMEZONE
BEGIN:VEVENT
DTSTART;TZID=America/New_York:20250522T143000
DTEND;TZID=America/New_York:20250522T170000
DTSTAMP:20260423T145429
CREATED:20250513T105915Z
LAST-MODIFIED:20250513T110200Z
UID:10000628-1747924200-1747933200@fscpm.org
SUMMARY:Gateway Chapter Memorial Day Flag Placing
DESCRIPTION:Join Gateway Chapter FSCPM in support of the Jacksonville National Cemetery\nThursday\, May 22\, 2025 / 2:30 pm\nIn preparation for Memorial Day at Jacksonville National Cemetery\, American Flags will be placed at each gravesite in advance of Memorial Day to honor our fallen. These flags are placed by volunteers\, and all are welcome to come to help place/pick up flags. We will place 20\,000+ American Flags\, one at each gravesite throughout the cemetery.\nPlease plan to arrive 30 minutes before our events to allow time for parking and walking to the meeting place. We have a volunteer parking team which will direct you to a safe place to park. All events are “Rain or Shine”. The address is 4083 Lannie Rd\, Jacksonville\, 32218.\nPlease arrive no later than 2:30pm. This is a walking event. Please be prepared to walk the cemetery and you may want to bring work gloves to protect your palm as you push flags into the ground. We will have limited water available – you may want to bring your own.\nRSVP to Carmen Crane at carmen.crane@dot.state.fl.us or 386-961-7405.\n  \nShare this flyer: FSCPM Memorial Day 2025FSCPM Memorial Day 2025
URL:https://fscpm.org/event/gateway-chapter-memorial-day-flag-placing/
CATEGORIES:FSCPM,Gateway Chapter,Networking
END:VEVENT
BEGIN:VEVENT
DTSTART;TZID=America/New_York:20221216T173000
DTEND;TZID=America/New_York:20221216T183000
DTSTAMP:20260423T145429
CREATED:20221206T155054Z
LAST-MODIFIED:20221206T155231Z
UID:10000454-1671211800-1671215400@fscpm.org
SUMMARY:Southwest Florida Chapter- Toast to the New Year- in Collier County
DESCRIPTION:
URL:https://fscpm.org/event/southwest-florida-chapter-toast-to-the-new-year-in-collier-county/
CATEGORIES:Networking,Southwest Florida Chapter
END:VEVENT
BEGIN:VEVENT
DTSTART;TZID=America/New_York:20221209T163000
DTEND;TZID=America/New_York:20221209T183000
DTSTAMP:20260423T145429
CREATED:20221206T154938Z
LAST-MODIFIED:20221206T155132Z
UID:10000453-1670603400-1670610600@fscpm.org
SUMMARY:Southwest Florida Chapter- Toast to the New Year Celebration-in Lee County
DESCRIPTION:
URL:https://fscpm.org/event/southwest-florida-chapter-toast-to-the-new-year-celebration/
CATEGORIES:Networking,Southwest Florida Chapter
END:VEVENT
BEGIN:VEVENT
DTSTART;VALUE=DATE:20220614
DTEND;VALUE=DATE:20220615
DTSTAMP:20260423T145429
CREATED:20220519T190623Z
LAST-MODIFIED:20220519T190623Z
UID:10000430-1655164800-1655251199@fscpm.org
SUMMARY:NFCPM Eat\, Meet\, and Greet
DESCRIPTION:
URL:https://fscpm.org/event/nfcpm-eat-meet-and-greet/
LOCATION:BECC Building 4055 (Cafe’) across from the Betty Easley Conference Center\, Tallahassee\, FL 32399
CATEGORIES:Networking,North Florida Chapter
END:VEVENT
BEGIN:VEVENT
DTSTART;TZID=America/New_York:20220427T183000
DTEND;TZID=America/New_York:20220427T203000
DTSTAMP:20260423T145429
CREATED:20220413T135111Z
LAST-MODIFIED:20220426T143928Z
UID:10000424-1651084200-1651091400@fscpm.org
SUMMARY:FSCPM Central Florida Networking Event
DESCRIPTION:Please join us in Orlando for an evening to connect\, network\, and learn ~ probably more laughing then learning at this one & that’s ok! \nCafé Trastevere at 825 N. Magnolia Ave in Orlando.  http://cafetrastevere.com/ \nWe currently have a table for 10 outside. It is Administrative Professional’s Day\, so you might want to bring an admin guest if they would like to help celebrate. They have wine\, beer\, sangria and appetizers. \nLet me know if you need more information. \n 
URL:https://fscpm.org/event/fscpm-central-florida-networking-event/
CATEGORIES:Networking
END:VEVENT
END:VCALENDAR