BEGIN:VCALENDAR
VERSION:2.0
PRODID:-//Florida Society of Certified Public Managers - ECPv6.15.20//NONSGML v1.0//EN
CALSCALE:GREGORIAN
METHOD:PUBLISH
X-WR-CALNAME:Florida Society of Certified Public Managers
X-ORIGINAL-URL:https://fscpm.org
X-WR-CALDESC:Events for Florida Society of Certified Public Managers
REFRESH-INTERVAL;VALUE=DURATION:PT1H
X-Robots-Tag:noindex
X-PUBLISHED-TTL:PT1H
BEGIN:VTIMEZONE
TZID:America/New_York
BEGIN:DAYLIGHT
TZOFFSETFROM:-0500
TZOFFSETTO:-0400
TZNAME:EDT
DTSTART:20200308T070000
END:DAYLIGHT
BEGIN:STANDARD
TZOFFSETFROM:-0400
TZOFFSETTO:-0500
TZNAME:EST
DTSTART:20201101T060000
END:STANDARD
BEGIN:DAYLIGHT
TZOFFSETFROM:-0500
TZOFFSETTO:-0400
TZNAME:EDT
DTSTART:20210314T070000
END:DAYLIGHT
BEGIN:STANDARD
TZOFFSETFROM:-0400
TZOFFSETTO:-0500
TZNAME:EST
DTSTART:20211107T060000
END:STANDARD
BEGIN:DAYLIGHT
TZOFFSETFROM:-0500
TZOFFSETTO:-0400
TZNAME:EDT
DTSTART:20220313T070000
END:DAYLIGHT
BEGIN:STANDARD
TZOFFSETFROM:-0400
TZOFFSETTO:-0500
TZNAME:EST
DTSTART:20221106T060000
END:STANDARD
BEGIN:DAYLIGHT
TZOFFSETFROM:-0500
TZOFFSETTO:-0400
TZNAME:EDT
DTSTART:20230312T070000
END:DAYLIGHT
BEGIN:STANDARD
TZOFFSETFROM:-0400
TZOFFSETTO:-0500
TZNAME:EST
DTSTART:20231105T060000
END:STANDARD
BEGIN:DAYLIGHT
TZOFFSETFROM:-0500
TZOFFSETTO:-0400
TZNAME:EDT
DTSTART:20240310T070000
END:DAYLIGHT
BEGIN:STANDARD
TZOFFSETFROM:-0400
TZOFFSETTO:-0500
TZNAME:EST
DTSTART:20241103T060000
END:STANDARD
END:VTIMEZONE
BEGIN:VEVENT
DTSTART;TZID=America/New_York:20230106T100000
DTEND;TZID=America/New_York:20230106T110000
DTSTAMP:20260423T162011
CREATED:20220408T151840Z
LAST-MODIFIED:20220408T151840Z
UID:10000420-1672999200-1673002800@fscpm.org
SUMMARY:Southwest Florida Chapter Board Meeting via zoom
DESCRIPTION:
URL:https://fscpm.org/event/southwest-florida-chapter-board-meeting-via-zoom-16/2023-01-06/
CATEGORIES:Southwest Florida Chapter
END:VEVENT
BEGIN:VEVENT
DTSTART;TZID=America/New_York:20221216T173000
DTEND;TZID=America/New_York:20221216T183000
DTSTAMP:20260423T162011
CREATED:20221206T155054Z
LAST-MODIFIED:20221206T155231Z
UID:10000454-1671211800-1671215400@fscpm.org
SUMMARY:Southwest Florida Chapter- Toast to the New Year- in Collier County
DESCRIPTION:
URL:https://fscpm.org/event/southwest-florida-chapter-toast-to-the-new-year-in-collier-county/
CATEGORIES:Networking,Southwest Florida Chapter
END:VEVENT
BEGIN:VEVENT
DTSTART;TZID=America/New_York:20221209T163000
DTEND;TZID=America/New_York:20221209T183000
DTSTAMP:20260423T162011
CREATED:20221206T154938Z
LAST-MODIFIED:20221206T155132Z
UID:10000453-1670603400-1670610600@fscpm.org
SUMMARY:Southwest Florida Chapter- Toast to the New Year Celebration-in Lee County
DESCRIPTION:
URL:https://fscpm.org/event/southwest-florida-chapter-toast-to-the-new-year-celebration/
CATEGORIES:Networking,Southwest Florida Chapter
END:VEVENT
BEGIN:VEVENT
DTSTART;TZID=America/New_York:20221202T100000
DTEND;TZID=America/New_York:20221202T110000
DTSTAMP:20260423T162011
CREATED:20220408T151840Z
LAST-MODIFIED:20220408T151840Z
UID:10000419-1669975200-1669978800@fscpm.org
SUMMARY:Southwest Florida Chapter Board Meeting via zoom
DESCRIPTION:
URL:https://fscpm.org/event/southwest-florida-chapter-board-meeting-via-zoom-16/2022-12-02/
CATEGORIES:Southwest Florida Chapter
END:VEVENT
BEGIN:VEVENT
DTSTART;TZID=America/New_York:20221104T100000
DTEND;TZID=America/New_York:20221104T110000
DTSTAMP:20260423T162011
CREATED:20220408T151840Z
LAST-MODIFIED:20220408T151840Z
UID:10000418-1667556000-1667559600@fscpm.org
SUMMARY:Southwest Florida Chapter Board Meeting via zoom
DESCRIPTION:
URL:https://fscpm.org/event/southwest-florida-chapter-board-meeting-via-zoom-16/2022-11-04/
CATEGORIES:Southwest Florida Chapter
END:VEVENT
BEGIN:VEVENT
DTSTART;TZID=America/New_York:20221007T100000
DTEND;TZID=America/New_York:20221007T110000
DTSTAMP:20260423T162011
CREATED:20220408T151840Z
LAST-MODIFIED:20220408T151840Z
UID:10000417-1665136800-1665140400@fscpm.org
SUMMARY:Southwest Florida Chapter Board Meeting via zoom
DESCRIPTION:
URL:https://fscpm.org/event/southwest-florida-chapter-board-meeting-via-zoom-16/2022-10-07/
CATEGORIES:Southwest Florida Chapter
END:VEVENT
BEGIN:VEVENT
DTSTART;TZID=America/New_York:20220902T100000
DTEND;TZID=America/New_York:20220902T110000
DTSTAMP:20260423T162011
CREATED:20220408T151840Z
LAST-MODIFIED:20220408T151840Z
UID:10000416-1662112800-1662116400@fscpm.org
SUMMARY:Southwest Florida Chapter Board Meeting via zoom
DESCRIPTION:
URL:https://fscpm.org/event/southwest-florida-chapter-board-meeting-via-zoom-16/2022-09-02/
CATEGORIES:Southwest Florida Chapter
END:VEVENT
BEGIN:VEVENT
DTSTART;TZID=America/New_York:20220812T110000
DTEND;TZID=America/New_York:20220812T130000
DTSTAMP:20260423T162011
CREATED:20220720T120750Z
LAST-MODIFIED:20231110T181623Z
UID:10000448-1660302000-1660309200@fscpm.org
SUMMARY:Lunch -n- Learn with Speaker Lenora Bresler via Zoom - Topic: Three Big Questions
DESCRIPTION:TOPIC:    THREE BIG QUESTIONS\nThis program introduces you to three questions whose answers give you the ability to connect and engage with just about anyone on a fundamental basis. Based on the book “Instant Insight: 15 Questions to Great Relationship”\, this lunch and learn is an introduction to the most important of those 15 questions. Effective relationships thrive because people understand what makes each other “tick.” Conventional wisdom says this understanding takes time to develop — after trial and error\, hurt feelings\, and lost trust\, but there are short-cuts to establishing immediate rapport and credibility. Indeed\, great relationships can be established almost immediately – and every leader needs to know how! Jumpstart any relationship — including employer-employee\, teams\, even personal relationships — by asking simple\,  non-threatening questions that will give you the insight you need to motivate\, persuade\, teach\, and empower anyone — instantly! Nationally acclaimed leadership speaker\, author\, trainer\, and coach J. Lenora Bresler will keep you laughing and engaged as you discover these secrets to instant success.\nRSVP today by clicking this link:  https://forms.gle/thYEAyYUbdXCbJ8a7\nEmail Southwest Florida Chapter of CPM <swflcpm@gmail.com> with any questions.
URL:https://fscpm.org/event/lunch-n-learn-with-speaker-lenora-bresier-via-zoom/
CATEGORIES:FSCPM,Southwest Florida Chapter,Training
END:VEVENT
BEGIN:VEVENT
DTSTART;TZID=America/New_York:20220805T100000
DTEND;TZID=America/New_York:20220805T110000
DTSTAMP:20260423T162011
CREATED:20220128T131952Z
LAST-MODIFIED:20220128T131952Z
UID:10000408-1659693600-1659697200@fscpm.org
SUMMARY:Southwest Florida Chapter Board Meeting via zoom
DESCRIPTION:
URL:https://fscpm.org/event/southwest-florida-chapter-board-meeting-via-zoom-15/
CATEGORIES:Southwest Florida Chapter
END:VEVENT
BEGIN:VEVENT
DTSTART;TZID=America/New_York:20220708T100000
DTEND;TZID=America/New_York:20220708T110000
DTSTAMP:20260423T162011
CREATED:20220128T131702Z
LAST-MODIFIED:20220128T131702Z
UID:10000407-1657274400-1657278000@fscpm.org
SUMMARY:Southwest Florida Chapter Board Meeting via zoom
DESCRIPTION:
URL:https://fscpm.org/event/southwest-florida-chapter-board-meeting-via-zoom-14/
CATEGORIES:Southwest Florida Chapter
END:VEVENT
BEGIN:VEVENT
DTSTART;TZID=America/New_York:20220603T100000
DTEND;TZID=America/New_York:20220603T110000
DTSTAMP:20260423T162011
CREATED:20220128T131602Z
LAST-MODIFIED:20220128T131602Z
UID:10000406-1654250400-1654254000@fscpm.org
SUMMARY:Southwest Florida Chapter Board Meeting via zoom
DESCRIPTION:
URL:https://fscpm.org/event/southwest-florida-chapter-board-meeting-via-zoom-13/
CATEGORIES:Southwest Florida Chapter
END:VEVENT
BEGIN:VEVENT
DTSTART;TZID=America/New_York:20220506T100000
DTEND;TZID=America/New_York:20220506T110000
DTSTAMP:20260423T162011
CREATED:20220128T131322Z
LAST-MODIFIED:20220128T131322Z
UID:10000405-1651831200-1651834800@fscpm.org
SUMMARY:Southwest Florida Chapter Board Meeting via zoom
DESCRIPTION:
URL:https://fscpm.org/event/southwest-florida-chapter-board-meeting-via-zoom-12/
CATEGORIES:Southwest Florida Chapter
END:VEVENT
BEGIN:VEVENT
DTSTART;TZID=America/New_York:20220413T120000
DTEND;TZID=America/New_York:20220413T130000
DTSTAMP:20260423T162011
CREATED:20220204T154742Z
LAST-MODIFIED:20220411T131244Z
UID:10000410-1649851200-1649854800@fscpm.org
SUMMARY:SWFL FSCPM Chapter Presents: Jackie Bristo "Is Your Professional Ladder Leaning against the Right Wall?"
DESCRIPTION:Check out Southwest Florida Chapter’s next CPM Learning Event! \nPaid FSCPM members attend for FREE! Click the RSVP button below. \nNon-member attendees are just $5!  Click the Ticket button below. \n 
URL:https://fscpm.org/event/sw-fl-cpm-presents-jackie-bristo-is-your-professional-ladder-leaning-against-the-right-wall/
CATEGORIES:Southwest Florida Chapter,Training
END:VEVENT
BEGIN:VEVENT
DTSTART;TZID=America/New_York:20220408T100000
DTEND;TZID=America/New_York:20220408T110000
DTSTAMP:20260423T162011
CREATED:20220128T130950Z
LAST-MODIFIED:20220128T130950Z
UID:10000404-1649412000-1649415600@fscpm.org
SUMMARY:Southwest Florida Chapter Board Meeting  via zoom
DESCRIPTION:
URL:https://fscpm.org/event/southwest-florida-chapter-board-meeting-via-zoom-11/
CATEGORIES:Southwest Florida Chapter
END:VEVENT
BEGIN:VEVENT
DTSTART;TZID=America/New_York:20220304T100000
DTEND;TZID=America/New_York:20220304T110000
DTSTAMP:20260423T162011
CREATED:20220128T130649Z
LAST-MODIFIED:20220128T130649Z
UID:10000403-1646388000-1646391600@fscpm.org
SUMMARY:Southwest Florida Chapter Board Meeting via zoom
DESCRIPTION:
URL:https://fscpm.org/event/southwest-florida-chapter-board-meeting-via-zoom-10/
CATEGORIES:Southwest Florida Chapter
END:VEVENT
BEGIN:VEVENT
DTSTART;TZID=America/New_York:20220204T100000
DTEND;TZID=America/New_York:20220204T110000
DTSTAMP:20260423T162011
CREATED:20220128T130117Z
LAST-MODIFIED:20220128T130206Z
UID:10000402-1643968800-1643972400@fscpm.org
SUMMARY:Southwest Florida Chapter Board Meeting via zoom
DESCRIPTION:
URL:https://fscpm.org/event/southwest-florida-chapter-board-meeting-via-zoom-9/
CATEGORIES:Southwest Florida Chapter
END:VEVENT
BEGIN:VEVENT
DTSTART;TZID=America/New_York:20220121T120000
DTEND;TZID=America/New_York:20220121T130000
DTSTAMP:20260423T162011
CREATED:20211228T153010Z
LAST-MODIFIED:20231110T181549Z
UID:10000394-1642766400-1642770000@fscpm.org
SUMMARY:Gaining & Sustaining Credibility: How to Earn the Trust and Confidence of Others
DESCRIPTION:Southwest Florida Chapter is hosting a continuing education event.  This training is being held via Zoom.  \nAll CPMs and their colleagues are welcome!!  The link will be provided after registration is completed. \nWhen:  January 21\, 2022 \nTime: 12:00 PM – 1:00 PM EST \nFREE admission for FSCPM Members with active paid membership – Select the number of members you are registering and their info to RSVP for FREE \n$5.00 for Non-Members – Click the Get Ticket button to register and pay the admission fee via PayPal. \nClick the link below to download the PDF with more information. \nEvent Information
URL:https://fscpm.org/event/gaining-sustaining-credibility-how-to-earn-the-trust-and-confidence-of-others/
CATEGORIES:FSCPM,Gateway Chapter,Heart of Florida,North Florida Chapter,Southwest Florida Chapter,Suncoast Chapter,Training
END:VEVENT
BEGIN:VEVENT
DTSTART;TZID=America/New_York:20220107T100000
DTEND;TZID=America/New_York:20220107T110000
DTSTAMP:20260423T162011
CREATED:20210108T163307Z
LAST-MODIFIED:20210108T163307Z
UID:10000386-1641549600-1641553200@fscpm.org
SUMMARY:Southwest Florida Chapter Board Meeting via Zoom
DESCRIPTION:
URL:https://fscpm.org/event/southwest-florida-chapter-board-meeting-via-zoom-7/2022-01-07/
CATEGORIES:Southwest Florida Chapter
END:VEVENT
BEGIN:VEVENT
DTSTART;TZID=America/New_York:20211203T100000
DTEND;TZID=America/New_York:20211203T110000
DTSTAMP:20260423T162011
CREATED:20210108T163307Z
LAST-MODIFIED:20210108T163307Z
UID:10000385-1638525600-1638529200@fscpm.org
SUMMARY:Southwest Florida Chapter Board Meeting via Zoom
DESCRIPTION:
URL:https://fscpm.org/event/southwest-florida-chapter-board-meeting-via-zoom-7/2021-12-03/
CATEGORIES:Southwest Florida Chapter
END:VEVENT
BEGIN:VEVENT
DTSTART;TZID=America/New_York:20211105T100000
DTEND;TZID=America/New_York:20211105T110000
DTSTAMP:20260423T162011
CREATED:20210108T163307Z
LAST-MODIFIED:20210108T163307Z
UID:10000384-1636106400-1636110000@fscpm.org
SUMMARY:Southwest Florida Chapter Board Meeting via Zoom
DESCRIPTION:
URL:https://fscpm.org/event/southwest-florida-chapter-board-meeting-via-zoom-7/2021-11-05/
CATEGORIES:Southwest Florida Chapter
END:VEVENT
BEGIN:VEVENT
DTSTART;TZID=America/New_York:20211001T100000
DTEND;TZID=America/New_York:20211001T110000
DTSTAMP:20260423T162011
CREATED:20210108T163307Z
LAST-MODIFIED:20210108T163307Z
UID:10000383-1633082400-1633086000@fscpm.org
SUMMARY:Southwest Florida Chapter Board Meeting via Zoom
DESCRIPTION:
URL:https://fscpm.org/event/southwest-florida-chapter-board-meeting-via-zoom-7/2021-10-01/
CATEGORIES:Southwest Florida Chapter
END:VEVENT
BEGIN:VEVENT
DTSTART;TZID=America/New_York:20210903T100000
DTEND;TZID=America/New_York:20210903T110000
DTSTAMP:20260423T162011
CREATED:20210108T163307Z
LAST-MODIFIED:20210108T163307Z
UID:10000382-1630663200-1630666800@fscpm.org
SUMMARY:Southwest Florida Chapter Board Meeting via Zoom
DESCRIPTION:
URL:https://fscpm.org/event/southwest-florida-chapter-board-meeting-via-zoom-7/2021-09-03/
CATEGORIES:Southwest Florida Chapter
END:VEVENT
BEGIN:VEVENT
DTSTART;TZID=America/New_York:20210806T100000
DTEND;TZID=America/New_York:20210806T110000
DTSTAMP:20260423T162011
CREATED:20210108T163307Z
LAST-MODIFIED:20210108T163307Z
UID:10000381-1628244000-1628247600@fscpm.org
SUMMARY:Southwest Florida Chapter Board Meeting via Zoom
DESCRIPTION:
URL:https://fscpm.org/event/southwest-florida-chapter-board-meeting-via-zoom-7/2021-08-06/
CATEGORIES:Southwest Florida Chapter
END:VEVENT
END:VCALENDAR