BEGIN:VCALENDAR
VERSION:2.0
PRODID:-//Florida Society of Certified Public Managers - ECPv6.15.20//NONSGML v1.0//EN
CALSCALE:GREGORIAN
METHOD:PUBLISH
X-ORIGINAL-URL:https://fscpm.org
X-WR-CALDESC:Events for Florida Society of Certified Public Managers
REFRESH-INTERVAL;VALUE=DURATION:PT1H
X-Robots-Tag:noindex
X-PUBLISHED-TTL:PT1H
BEGIN:VTIMEZONE
TZID:America/New_York
BEGIN:DAYLIGHT
TZOFFSETFROM:-0500
TZOFFSETTO:-0400
TZNAME:EDT
DTSTART:20210314T070000
END:DAYLIGHT
BEGIN:STANDARD
TZOFFSETFROM:-0400
TZOFFSETTO:-0500
TZNAME:EST
DTSTART:20211107T060000
END:STANDARD
BEGIN:DAYLIGHT
TZOFFSETFROM:-0500
TZOFFSETTO:-0400
TZNAME:EDT
DTSTART:20220313T070000
END:DAYLIGHT
BEGIN:STANDARD
TZOFFSETFROM:-0400
TZOFFSETTO:-0500
TZNAME:EST
DTSTART:20221106T060000
END:STANDARD
BEGIN:DAYLIGHT
TZOFFSETFROM:-0500
TZOFFSETTO:-0400
TZNAME:EDT
DTSTART:20230312T070000
END:DAYLIGHT
BEGIN:STANDARD
TZOFFSETFROM:-0400
TZOFFSETTO:-0500
TZNAME:EST
DTSTART:20231105T060000
END:STANDARD
BEGIN:DAYLIGHT
TZOFFSETFROM:-0500
TZOFFSETTO:-0400
TZNAME:EDT
DTSTART:20240310T070000
END:DAYLIGHT
BEGIN:STANDARD
TZOFFSETFROM:-0400
TZOFFSETTO:-0500
TZNAME:EST
DTSTART:20241103T060000
END:STANDARD
BEGIN:DAYLIGHT
TZOFFSETFROM:-0500
TZOFFSETTO:-0400
TZNAME:EDT
DTSTART:20250309T070000
END:DAYLIGHT
BEGIN:STANDARD
TZOFFSETFROM:-0400
TZOFFSETTO:-0500
TZNAME:EST
DTSTART:20251102T060000
END:STANDARD
BEGIN:DAYLIGHT
TZOFFSETFROM:-0500
TZOFFSETTO:-0400
TZNAME:EDT
DTSTART:20260308T070000
END:DAYLIGHT
BEGIN:STANDARD
TZOFFSETFROM:-0400
TZOFFSETTO:-0500
TZNAME:EST
DTSTART:20261101T060000
END:STANDARD
END:VTIMEZONE
BEGIN:VEVENT
DTSTART;VALUE=DATE:20251002
DTEND;VALUE=DATE:20251004
DTSTAMP:20260423T132809
CREATED:20241205T163030Z
LAST-MODIFIED:20250918T170113Z
UID:10000555-1759363200-1759535999@fscpm.org
SUMMARY:2025 FSCPM Leadership Symposium in Plant City\, FL
DESCRIPTION:ONLY 4 WEEKS LEFT TO GET TICKETS….SELLING FAST!!  GET YOURS TODAY!!\n***IMPORTANT:  When ordering tickets\, the name and email address of EACH attendee is required for payment confirmation\, otherwise the person will not appear on the attendee list!  Please do not enter generic information in the registration fields.\n\nStandard Ticket sales have ended!  This event is sold out!!\n\n  \n \nThanks so much to our amazing sponsors!\n\nPlease post the informational flyer below in your workplace and professional social media pages to spread the word:\n2025 FSCPM Symposium Flyer\n\nNeed more details…check out the Symposium program:\n2025 FSCPM Leadership Symposium Program\n\nNeed hotel reservations? Check out these options:\nTownePlace Suites Plant City:\n2709 Thonotosassa Rd\, Plant City\, FL 33563\n(813)704-5585\n$209/night\nBook your group rate for Florida Society of Certified Public Managers \n  \n \nHampton Inn Plant City:\n2702 Thonotosassa Rd\, Plant City\, FL 33563\n(813)756-5600\n$189/night\nClick here to book your FSCPM group rate
URL:https://fscpm.org/event/2025-fscpm-leadership-symposium-in-plant-city-fl/
CATEGORIES:FSCPM,Training
ATTACH;FMTTYPE=image/png:https://fscpm.org/wp-content/uploads/2024/12/2025-FSCPM-Leadership-Symposium-Save-the-Date-smaller.png
END:VEVENT
BEGIN:VEVENT
DTSTART;TZID=America/New_York:20250411T100000
DTEND;TZID=America/New_York:20250411T140000
DTSTAMP:20260423T132809
CREATED:20250324T164754Z
LAST-MODIFIED:20250324T164754Z
UID:10000626-1744365600-1744380000@fscpm.org
SUMMARY:Master the Power of Perception\, Expectations\, and Growth Mindset
DESCRIPTION:Click Here to Register: \nhttps://hctc.questionpro.com/a/TakeSurvey?tt=ff9X1iSEeQEECHrPeIW9eQ%3D%3D \n  \n 
URL:https://fscpm.org/event/master-the-power-of-perception-expectations-and-growth-mindset/
CATEGORIES:Suncoast Chapter,Training
ATTACH;FMTTYPE=application/pdf:https://fscpm.org/wp-content/uploads/2025/03/CPM-Training-04.11.2025.pdf
END:VEVENT
BEGIN:VEVENT
DTSTART;TZID=America/New_York:20240524T120000
DTEND;TZID=America/New_York:20240524T130000
DTSTAMP:20260423T132809
CREATED:20240513T111126Z
LAST-MODIFIED:20240515T140419Z
UID:10000522-1716552000-1716555600@fscpm.org
SUMMARY:SW Florida Chapter Hosts "Conscious Leadership" Lunch and Learn Zoom Meeting
DESCRIPTION:Join the Southwest Florida FSCPM Chapter on Friday\, 5/24/2024 from 12:00pm – 1:00pm on Zoom to learn more about “conscious leadership.”\nAccording to Steve Gregory\, International Leadership expert\, Conscious Leadership is a “style of leadership that involves self-awareness\, mindfulness\, and a deep sense of purpose” that is “based on the idea that leaders who are conscious and intentional about their actions\, decisions\, and interactions can create positive outcomes not only for themselves but also for their teams\, organizations\, and society.” \nThe discussion will be led by Charlie Walsh\, Managing Director of HOPS International\, LLC\, which has been “providing clients with innovative solutions in building and maintaining high performance Conscious Culture for over 10+ years.” Charlie Walsh – Longwood\, Florida\, Organizational & Leadership Capacity Development\, Graduate Business Education | about.me \nThis event is FREE for all FSCPM members.\nNon-members are asked to pay a small fee of $5.\nIf you are a member\, click RSVP below to register no later than Wednesday\, 5/22/2024.  A meeting link will be emailed after you sign up.
URL:https://fscpm.org/event/sw-florida-chapter-hosts-conscious-leadership-lunch-and-learn-zoom-meeting/
LOCATION:Via Zoom
CATEGORIES:FSCPM,Southwest Florida Chapter,Training
END:VEVENT
BEGIN:VEVENT
DTSTART;TZID=America/New_York:20231204T113000
DTEND;TZID=America/New_York:20231204T133000
DTSTAMP:20260423T132809
CREATED:20231117T132315Z
LAST-MODIFIED:20231117T132315Z
UID:10000486-1701689400-1701696600@fscpm.org
SUMMARY:Level 3 & 4 CPM Refresher Course In Person-Southwest Florida Chapter
DESCRIPTION:
URL:https://fscpm.org/event/level-3-4-cpm-refresher-course-in-person-southwest-florida-chapter/
LOCATION:2201 Second Street\, 1st Floor\, Fort Myers\, FL 33901\, 2201 Second Street\, 1st Floor\, Fort Myers\, FL\, 33901\, United States
CATEGORIES:Southwest Florida Chapter,Training
END:VEVENT
BEGIN:VEVENT
DTSTART;TZID=America/New_York:20231020T090000
DTEND;TZID=America/New_York:20231020T160000
DTSTAMP:20260423T132809
CREATED:20230619T193128Z
LAST-MODIFIED:20240529T204311Z
UID:10000342-1697792400-1697817600@fscpm.org
SUMMARY:2023 FSCPM State Symposium
DESCRIPTION:An In-Person Professional Development Opportunity!!\n2023 FSCPM State Symposium\nTheme:   “Transformation of the Workplace”\nJoin us to review CPM Level V and discuss the impact of social changes on public management.\nFeatured Speakers include:\nDeric Feacher\nAngeline Gillings \nLorna Kibbey\nAmy Topol\nCOST: \nMembers:  $50\nNon-Members:  $60\n**plus $3 service fee \nIncludes Lunch\nTime:   9:00am – 4:00pm\nLocation:\nFDOT District One Office\n801N.BroadwayAve.\nBartow\, FL 33830-3809\nLive outside the area?!  Come a day early and book a room at Hampton Inn.  Mention 2023 FSCPM Symposium to receive the discount rate.\nClick this link:  Hampton Inn Bartow\n205 Old Bartow Eagle Lake Rd \nBartow\, FL  33830 \nPhone: 863-535-5007 \nTickets on sale now!\n**Members need to log in to see the discount price. \n***Be sure to register in advance by filling out an RSVP (below) after completing your purchase.  Enter the number of tickets to see the form. \nSpace is limited\, so plan to register BEFORE October 19th!\nPlease download and share the flyer below with colleagues.\n2023 FSCPM State Symposium Flyer
URL:https://fscpm.org/event/2023-fscpm-state-symposium/
LOCATION:FDOT District 1 Office 801 N. Broadway Avenue Bartow\, Florida\, 801 N. Broadway Avenue\, Bartow\, FL\, United States
CATEGORIES:FSCPM,Training
ATTACH;FMTTYPE=image/png:https://fscpm.org/wp-content/uploads/2023/06/2023-FSCPM-Flyer-Square.png
END:VEVENT
BEGIN:VEVENT
DTSTART;TZID=America/New_York:20231003T083000
DTEND;TZID=America/New_York:20231003T160000
DTSTAMP:20260423T132809
CREATED:20230630T201220Z
LAST-MODIFIED:20230630T201220Z
UID:10000380-1696321800-1696348800@fscpm.org
SUMMARY:Suncoast Chapter Presents Franklin Covey:  Speed of Trust Foundations Course
DESCRIPTION:
URL:https://fscpm.org/event/suncoast-chapter-presents-franklin-covey-speed-of-trust-foundations-course/
LOCATION:FDOT  District 7 Headquarters\, 11201 N. McKinley Drive\, Tampa\, 339612
CATEGORIES:Suncoast Chapter,Training
END:VEVENT
BEGIN:VEVENT
DTSTART;TZID=America/New_York:20230816T113000
DTEND;TZID=America/New_York:20230816T123000
DTSTAMP:20260423T132809
CREATED:20230721T194947Z
LAST-MODIFIED:20230731T123217Z
UID:10000390-1692185400-1692189000@fscpm.org
SUMMARY:North Florida Chapter Meeting via zoom
DESCRIPTION:Join the North Florida Chapter at our membership meeting:\nPART 2: YOUR FINANCES\, YOUR RETIREMENT\nGuest speaker: Tracy Orivomi\, Financial Consultant with Wealthwave\n 
URL:https://fscpm.org/event/north-florida-chapter-meeting-via-zoom-3/
CATEGORIES:North Florida Chapter,Training
END:VEVENT
BEGIN:VEVENT
DTSTART;TZID=America/New_York:20230712T120000
DTEND;TZID=America/New_York:20230712T130000
DTSTAMP:20260423T132809
CREATED:20230628T155830Z
LAST-MODIFIED:20230710T182833Z
UID:10000355-1689163200-1689166800@fscpm.org
SUMMARY:Suncoast Chapter Lunch~n~Learn
DESCRIPTION:Hello CPM’ers! \nSave the Date for an opportunity to continue your CPM growth! \nFSCPM Suncoast Chapter Lunch N Learn \nTime Management with Dr. Tari Colon
URL:https://fscpm.org/event/suncoast-chapter-lunchnlearn-save-the-date/
CATEGORIES:Suncoast Chapter,Training
END:VEVENT
BEGIN:VEVENT
DTSTART;TZID=America/New_York:20230711T113000
DTEND;TZID=America/New_York:20230711T130000
DTSTAMP:20260423T132809
CREATED:20230621T182753Z
LAST-MODIFIED:20230710T185053Z
UID:10000343-1689075000-1689080400@fscpm.org
SUMMARY:North Florida Chapter Meeting via zoom with Guest Speaker: Tracy Oriyomi
DESCRIPTION:
URL:https://fscpm.org/event/north-florida-chapter-meeting-via-zoom-2/
CATEGORIES:North Florida Chapter,Training
END:VEVENT
BEGIN:VEVENT
DTSTART;TZID=America/New_York:20230619T140000
DTEND;TZID=America/New_York:20230619T153000
DTSTAMP:20260423T132809
CREATED:20230602T161220Z
LAST-MODIFIED:20230612T164429Z
UID:10000336-1687183200-1687188600@fscpm.org
SUMMARY:Southwest Florida Chapter - Level 3 Refresher Course
DESCRIPTION:Join the FSCPM Southwest Chapter to review “Level 3: Management of Organizational Performance”\nThe level focuses on improving productivity and quality. Topics: Productivity and Quality in Public Management\, Analysis for Productivity and Quality\, Organizational Communication\, Emotional Intelligence\, Information Technology\, the Sterling Challenge\, and Project Management. \nAttend In Person ~ Lee County at Lee County Administrative Building 2201 Second Street\, 1st Floor Fort Myers \nAttend In Person ~ Collier County  at Collier County Procurement Services 3295 Tamiami Trail E.\, Bldg. C-2 Naples \nor Attend Virtually via Zoom. RSVP (members) or Purchase a ticket (non-members) and the link will be provided. \nFREE for FSCPM Members…click the RSVP button to register. \n$20 for Non-Members…click the Ticket button to register and pay no later than 6/16/2023 at 5:00pm.  Advanced purchase only.  No on-site payments will be accepted.
URL:https://fscpm.org/event/southwest-florida-chapter-level-3-refresher-course/
CATEGORIES:Southwest Florida Chapter,Training
END:VEVENT
BEGIN:VEVENT
DTSTART;TZID=America/New_York:20230605T090000
DTEND;TZID=America/New_York:20230605T170000
DTSTAMP:20260423T132809
CREATED:20230425T131933Z
LAST-MODIFIED:20230425T155435Z
UID:10000479-1685955600-1685984400@fscpm.org
SUMMARY:Suncoast Chapter Training Event In Person
DESCRIPTION:Come join us for this essential training.  Free for Members\, $5 at the Door for Non-Members! \nThis training will equip participants with the essential skills and tools to get work done with and through other people.   \nThe program is ideal for new first-level leaders who need to transition successfully from individual contributors to leaders of others.  This training is also for proven leaders who are looking for practical and relevant guidance on how to effectively lead and manage their teams. \nClick Link below to register: \nhttps://forms.office.com/g/uXEnuCsF8Z
URL:https://fscpm.org/event/suncoast-chapter-training-event-in-person/
LOCATION:In the Round Up Room\, 5211 Ulmerton Road\, Clearwater\, FL\, 33760\, United States
CATEGORIES:Suncoast Chapter,Training
END:VEVENT
BEGIN:VEVENT
DTSTART;TZID=America/New_York:20230308T120000
DTEND;TZID=America/New_York:20230308T130000
DTSTAMP:20260423T132809
CREATED:20230216T143901Z
LAST-MODIFIED:20230216T143901Z
UID:10000317-1678276800-1678280400@fscpm.org
SUMMARY:Ponder This: Encouraging the Heart via zoom
DESCRIPTION:
URL:https://fscpm.org/event/ponder-this-encouraging-the-heart-via-zoom/
CATEGORIES:Suncoast Chapter,Training
END:VEVENT
BEGIN:VEVENT
DTSTART;TZID=America/New_York:20230111T120000
DTEND;TZID=America/New_York:20230111T130000
DTSTAMP:20260423T132809
CREATED:20221206T164211Z
LAST-MODIFIED:20230105T165315Z
UID:10000456-1673438400-1673442000@fscpm.org
SUMMARY:Southwest Florida Chapter Professional Development Opportunity via Zoom
DESCRIPTION:Speaker: Kelvin Beene\, Training & Development Manager – City of Aurora\, IL.
URL:https://fscpm.org/event/southwest-florida-chapter-professional-development-opportunity-via-zoom/
LOCATION:Via Zoom
CATEGORIES:Southwest Florida Chapter,Training
END:VEVENT
BEGIN:VEVENT
DTSTART;TZID=America/New_York:20221219T120000
DTEND;TZID=America/New_York:20221219T130000
DTSTAMP:20260423T132809
CREATED:20221031T140540Z
LAST-MODIFIED:20221031T140657Z
UID:10000451-1671451200-1671454800@fscpm.org
SUMMARY:Conversations After the Storm - A Webinar Series
DESCRIPTION:Webinar Series presented by The Florida Center for Public Management \nEvery Monday https://fsu.zoom.us/j/98215407092 \nZoom Meeting ID: 982 1540 7092
URL:https://fscpm.org/event/conversations-after-the-storm-a-webinar-series-5/
CATEGORIES:FSCPM,Training
END:VEVENT
BEGIN:VEVENT
DTSTART;TZID=America/New_York:20221212T120000
DTEND;TZID=America/New_York:20221212T130000
DTSTAMP:20260423T132809
CREATED:20221031T140458Z
LAST-MODIFIED:20221031T140458Z
UID:10000450-1670846400-1670850000@fscpm.org
SUMMARY:Conversations After the Storm - A Webinar Series
DESCRIPTION:Webinar Series presented by The Florida Center for Public Management \nEvery Monday https://fsu.zoom.us/j/98215407092 \nZoom Meeting ID: 982 1540 7092
URL:https://fscpm.org/event/conversations-after-the-storm-a-webinar-series-4/
CATEGORIES:FSCPM,Training
END:VEVENT
BEGIN:VEVENT
DTSTART;TZID=America/New_York:20221212T103000
DTEND;TZID=America/New_York:20221212T113000
DTSTAMP:20260423T132809
CREATED:20221117T141852Z
LAST-MODIFIED:20221201T193805Z
UID:10000452-1670841000-1670844600@fscpm.org
SUMMARY:Self-Discipline Professional Development Opportunity via Zoom
DESCRIPTION:
URL:https://fscpm.org/event/self-discipline-professional-development-opportunity-via-zoom/
CATEGORIES:Training
END:VEVENT
BEGIN:VEVENT
DTSTART;TZID=America/New_York:20221205T120000
DTEND;TZID=America/New_York:20221205T130000
DTSTAMP:20260423T132809
CREATED:20221031T140350Z
LAST-MODIFIED:20221031T140350Z
UID:10000449-1670241600-1670245200@fscpm.org
SUMMARY:Conversations After the Storm - A Webinar Series
DESCRIPTION:Webinar Series presented by The Florida Center for Public Management \nEvery Monday https://fsu.zoom.us/j/98215407092 \nZoom Meeting ID: 982 1540 7092
URL:https://fscpm.org/event/conversations-after-the-storm-a-webinar-series-3/
CATEGORIES:FSCPM,Training
END:VEVENT
BEGIN:VEVENT
DTSTART;TZID=America/New_York:20221128T120000
DTEND;TZID=America/New_York:20221128T130000
DTSTAMP:20260423T132809
CREATED:20221031T140246Z
LAST-MODIFIED:20221031T140246Z
UID:10000282-1669636800-1669640400@fscpm.org
SUMMARY:Conversations After the Storm - A Webinar Series
DESCRIPTION:Webinar Series presented by The Florida Center for Public Management \nEvery Monday https://fsu.zoom.us/j/98215407092 \nZoom Meeting ID: 982 1540 7092
URL:https://fscpm.org/event/conversations-after-the-storm-a-webinar-series-2/
CATEGORIES:FSCPM,Training
END:VEVENT
BEGIN:VEVENT
DTSTART;TZID=America/New_York:20221121T120000
DTEND;TZID=America/New_York:20221121T130000
DTSTAMP:20260423T132809
CREATED:20221031T140048Z
LAST-MODIFIED:20221031T140048Z
UID:10000281-1669032000-1669035600@fscpm.org
SUMMARY:Conversations After the Storm - A Webinar Series
DESCRIPTION:Webinar Series presented by The Florida Center for Public Management \nEvery Monday https://fsu.zoom.us/j/98215407092 \nZoom Meeting ID: 982 1540 7092
URL:https://fscpm.org/event/conversations-after-the-storm-a-webinar-series/
CATEGORIES:FSCPM,Training
END:VEVENT
BEGIN:VEVENT
DTSTART;TZID=America/New_York:20221114T120000
DTEND;TZID=America/New_York:20221114T130000
DTSTAMP:20260423T132809
CREATED:20221031T135933Z
LAST-MODIFIED:20221031T135933Z
UID:10000280-1668427200-1668430800@fscpm.org
SUMMARY:Conversations After the Storm-Webinar Series
DESCRIPTION:Webinar Series presented by The Florida Center for Public Management \nEvery Monday https://fsu.zoom.us/j/98215407092 \nZoom Meeting ID: 982 1540 7092
URL:https://fscpm.org/event/conversations-after-the-storm-webinar-series-2/
CATEGORIES:FSCPM,Training
END:VEVENT
BEGIN:VEVENT
DTSTART;TZID=America/New_York:20221107T120000
DTEND;TZID=America/New_York:20221107T130000
DTSTAMP:20260423T132809
CREATED:20221031T135813Z
LAST-MODIFIED:20221031T135813Z
UID:10000279-1667822400-1667826000@fscpm.org
SUMMARY:Conversations After the Storm Webinar Series
DESCRIPTION:Webinar Series presented by The Florida Center for Public Management \nEvery Monday https://fsu.zoom.us/j/98215407092 \nZoom Meeting ID: 982 1540 7092
URL:https://fscpm.org/event/conversations-after-the-storm-webinar-series/
CATEGORIES:FSCPM,Training
END:VEVENT
BEGIN:VEVENT
DTSTART;TZID=America/New_York:20221031T120000
DTEND;TZID=America/New_York:20221031T130000
DTSTAMP:20260423T132809
CREATED:20221031T135647Z
LAST-MODIFIED:20221031T135647Z
UID:10000278-1667217600-1667221200@fscpm.org
SUMMARY:Conversations After the Storm
DESCRIPTION:Webinar Series presented by The Florida Center for Public Management \nEvery Monday https://fsu.zoom.us/j/98215407092 \nZoom Meeting ID: 982 1540 7092 \n 
URL:https://fscpm.org/event/conversations-after-the-storm/
CATEGORIES:FSCPM,Training
END:VEVENT
BEGIN:VEVENT
DTSTART;TZID=America/New_York:20221019T120000
DTEND;TZID=America/New_York:20221019T130000
DTSTAMP:20260423T132809
CREATED:20220802T125537Z
LAST-MODIFIED:20221013T114420Z
UID:10000273-1666180800-1666184400@fscpm.org
SUMMARY:Lunch -n-Learn via zoom "How do Cellphones Impact Relationships"
DESCRIPTION:Join us as we watch a short Simon Sinek video followed by discussion on the impact of cellphones on relationships. \nFSCPM is inviting you to a scheduled Zoom meeting. \nTopic: Lunch & Learn\nTime: Oct 19\, 2022 12:00 PM Eastern Time (US and Canada) \nJoin Zoom Meeting\nhttps://us06web.zoom.us/j/83195310742?pwd=TFA4aVYxb0phNFk4cTRHV0gxQWdJZz09 \nMeeting ID: 831 9531 0742\nPasscode: 787691
URL:https://fscpm.org/event/lunch-n-learn-via-zoom/
CATEGORIES:FSCPM,Training
END:VEVENT
BEGIN:VEVENT
DTSTART;TZID=America/New_York:20221013T130000
DTEND;TZID=America/New_York:20221013T140000
DTSTAMP:20260423T132809
CREATED:20221011T120610Z
LAST-MODIFIED:20221011T131740Z
UID:10000276-1665666000-1665669600@fscpm.org
SUMMARY:Group Think vs Systems Thinking
DESCRIPTION:Microsoft Teams meeting \nJoin on your computer\, mobile app or room device \nClick here to join the meeting \nMeeting ID: 291 039 789 357\nPasscode: G4LUC2 \nDownload Teams | Join on the web
URL:https://fscpm.org/event/group-think-vs-systems-thinking/
CATEGORIES:FSCPM,Gateway Chapter,Training
END:VEVENT
BEGIN:VEVENT
DTSTART;TZID=America/New_York:20220913T083000
DTEND;TZID=America/New_York:20220913T163000
DTSTAMP:20260423T132809
CREATED:20220705T121424Z
LAST-MODIFIED:20220705T121424Z
UID:10000446-1663057800-1663086600@fscpm.org
SUMMARY:7 Habits of Highly Effective People training and development opportunity
DESCRIPTION:Achieve greater productivity\, improved communication\, strengthened relationships\, increased influence\, and laser-like focus on \ncritical priorities. \nToday more than ever we need to improve life and work effectiveness. Come to The 7 Habits of Highly Effective People Signature Edition \n4.0 and experience the difference this solution will make in your life. \n  \nregistration link: \nhttps://forms.office.com/g/275UnDhjsX
URL:https://fscpm.org/event/7-habits-of-highly-effective-people-training-and-development-opportunity/2022-09-13/
LOCATION:FDOT HQ-Tampa\, Florida – 11201 N. McKinley Drive\, 11201 N. McKinley Drive\, Tampa\, FL\, United States
CATEGORIES:Suncoast Chapter,Training
END:VEVENT
BEGIN:VEVENT
DTSTART;TZID=America/New_York:20220912T130000
DTEND;TZID=America/New_York:20220912T150000
DTSTAMP:20260423T132809
CREATED:20220815T140736Z
LAST-MODIFIED:20220815T140749Z
UID:10000274-1662987600-1662994800@fscpm.org
SUMMARY:Hire for Attitude\, Train for Skill
DESCRIPTION:Held via Teams or In Person \nThere is a link for registration within the flyer. If for some reason it does not work\, please go to Eventbrite and search for HATS.
URL:https://fscpm.org/event/hire-for-attitude-train-for-skill/
LOCATION:FDOT\, District 2 Lake City in the Madison Room\, Lake City\, FL\, United States
CATEGORIES:Gateway Chapter,Training
END:VEVENT
BEGIN:VEVENT
DTSTART;TZID=America/New_York:20220912T083000
DTEND;TZID=America/New_York:20220912T163000
DTSTAMP:20260423T132810
CREATED:20220705T121424Z
LAST-MODIFIED:20220705T121424Z
UID:10000445-1662971400-1663000200@fscpm.org
SUMMARY:7 Habits of Highly Effective People training and development opportunity
DESCRIPTION:Achieve greater productivity\, improved communication\, strengthened relationships\, increased influence\, and laser-like focus on \ncritical priorities. \nToday more than ever we need to improve life and work effectiveness. Come to The 7 Habits of Highly Effective People Signature Edition \n4.0 and experience the difference this solution will make in your life. \n  \nregistration link: \nhttps://forms.office.com/g/275UnDhjsX
URL:https://fscpm.org/event/7-habits-of-highly-effective-people-training-and-development-opportunity/2022-09-12/
LOCATION:FDOT HQ-Tampa\, Florida – 11201 N. McKinley Drive\, 11201 N. McKinley Drive\, Tampa\, FL\, United States
CATEGORIES:Suncoast Chapter,Training
END:VEVENT
BEGIN:VEVENT
DTSTART;TZID=America/New_York:20220812T110000
DTEND;TZID=America/New_York:20220812T130000
DTSTAMP:20260423T132810
CREATED:20220720T120750Z
LAST-MODIFIED:20231110T181623Z
UID:10000448-1660302000-1660309200@fscpm.org
SUMMARY:Lunch -n- Learn with Speaker Lenora Bresler via Zoom - Topic: Three Big Questions
DESCRIPTION:TOPIC:    THREE BIG QUESTIONS\nThis program introduces you to three questions whose answers give you the ability to connect and engage with just about anyone on a fundamental basis. Based on the book “Instant Insight: 15 Questions to Great Relationship”\, this lunch and learn is an introduction to the most important of those 15 questions. Effective relationships thrive because people understand what makes each other “tick.” Conventional wisdom says this understanding takes time to develop — after trial and error\, hurt feelings\, and lost trust\, but there are short-cuts to establishing immediate rapport and credibility. Indeed\, great relationships can be established almost immediately – and every leader needs to know how! Jumpstart any relationship — including employer-employee\, teams\, even personal relationships — by asking simple\,  non-threatening questions that will give you the insight you need to motivate\, persuade\, teach\, and empower anyone — instantly! Nationally acclaimed leadership speaker\, author\, trainer\, and coach J. Lenora Bresler will keep you laughing and engaged as you discover these secrets to instant success.\nRSVP today by clicking this link:  https://forms.gle/thYEAyYUbdXCbJ8a7\nEmail Southwest Florida Chapter of CPM <swflcpm@gmail.com> with any questions.
URL:https://fscpm.org/event/lunch-n-learn-with-speaker-lenora-bresier-via-zoom/
CATEGORIES:FSCPM,Southwest Florida Chapter,Training
END:VEVENT
BEGIN:VEVENT
DTSTART;TZID=America/New_York:20220727T120000
DTEND;TZID=America/New_York:20220727T130000
DTSTAMP:20260423T132810
CREATED:20220629T142427Z
LAST-MODIFIED:20220629T142427Z
UID:10000444-1658923200-1658926800@fscpm.org
SUMMARY:Training on Body Language via Zoom
DESCRIPTION:
URL:https://fscpm.org/event/training-on-body-language-via-zoom/
CATEGORIES:Training
END:VEVENT
BEGIN:VEVENT
DTSTART;TZID=America/New_York:20220714T110000
DTEND;TZID=America/New_York:20220714T110000
DTSTAMP:20260423T132810
CREATED:20220425T182650Z
LAST-MODIFIED:20220425T182650Z
UID:10000429-1657796400-1657796400@fscpm.org
SUMMARY:Tallahassee Graduation Training via Zoom
DESCRIPTION:
URL:https://fscpm.org/event/tallahassee-graduation-training-via-zoom/
LOCATION:Via Zoom
CATEGORIES:FSCPM,Training
END:VEVENT
END:VCALENDAR