BEGIN:VCALENDAR
VERSION:2.0
PRODID:-//Florida Society of Certified Public Managers - ECPv6.15.20//NONSGML v1.0//EN
CALSCALE:GREGORIAN
METHOD:PUBLISH
X-ORIGINAL-URL:https://fscpm.org
X-WR-CALDESC:Events for Florida Society of Certified Public Managers
REFRESH-INTERVAL;VALUE=DURATION:PT1H
X-Robots-Tag:noindex
X-PUBLISHED-TTL:PT1H
BEGIN:VTIMEZONE
TZID:America/New_York
BEGIN:DAYLIGHT
TZOFFSETFROM:-0500
TZOFFSETTO:-0400
TZNAME:EDT
DTSTART:20230312T070000
END:DAYLIGHT
BEGIN:STANDARD
TZOFFSETFROM:-0400
TZOFFSETTO:-0500
TZNAME:EST
DTSTART:20231105T060000
END:STANDARD
BEGIN:DAYLIGHT
TZOFFSETFROM:-0500
TZOFFSETTO:-0400
TZNAME:EDT
DTSTART:20240310T070000
END:DAYLIGHT
BEGIN:STANDARD
TZOFFSETFROM:-0400
TZOFFSETTO:-0500
TZNAME:EST
DTSTART:20241103T060000
END:STANDARD
BEGIN:DAYLIGHT
TZOFFSETFROM:-0500
TZOFFSETTO:-0400
TZNAME:EDT
DTSTART:20250309T070000
END:DAYLIGHT
BEGIN:STANDARD
TZOFFSETFROM:-0400
TZOFFSETTO:-0500
TZNAME:EST
DTSTART:20251102T060000
END:STANDARD
BEGIN:DAYLIGHT
TZOFFSETFROM:-0500
TZOFFSETTO:-0400
TZNAME:EDT
DTSTART:20260308T070000
END:DAYLIGHT
BEGIN:STANDARD
TZOFFSETFROM:-0400
TZOFFSETTO:-0500
TZNAME:EST
DTSTART:20261101T060000
END:STANDARD
END:VTIMEZONE
BEGIN:VEVENT
DTSTART;TZID=America/New_York:20250317T110000
DTEND;TZID=America/New_York:20250317T120000
DTSTAMP:20260423T120314
CREATED:20241212T131339Z
LAST-MODIFIED:20241212T131422Z
UID:10000572-1742209200-1742212800@fscpm.org
SUMMARY:Suncoast Chapter Monthly Board Meeting via Teams
DESCRIPTION:
URL:https://fscpm.org/event/suncoast-monthly-board-meeting-via-teams/2025-03-17/
CATEGORIES:Suncoast Chapter
END:VEVENT
BEGIN:VEVENT
DTSTART;TZID=America/New_York:20250314T100000
DTEND;TZID=America/New_York:20250314T110000
DTSTAMP:20260423T120314
CREATED:20250127T160458Z
LAST-MODIFIED:20250127T160458Z
UID:10000616-1741946400-1741950000@fscpm.org
SUMMARY:Southwest Florida CPM Bi-Monthly Board Meeting via zoom
DESCRIPTION:
URL:https://fscpm.org/event/southwest-florida-cpm-bi-monthly-board-meeting-via-zoom/2025-03-14/
CATEGORIES:Southwest Florida Chapter
END:VEVENT
BEGIN:VEVENT
DTSTART;TZID=America/New_York:20250312T180000
DTEND;TZID=America/New_York:20250312T190000
DTSTAMP:20260423T120314
CREATED:20241216T190834Z
LAST-MODIFIED:20241216T195619Z
UID:10000599-1741802400-1741806000@fscpm.org
SUMMARY:North Florida Monthly Board Meetings via zoom
DESCRIPTION:North Florida CPM is inviting you to a scheduled Zoom meeting. \nJoin Zoom Meeting \nhttps://us06web.zoom.us/j/87891080310?pwd=Y9B7aQyeqzffE96BysMsKPLVMbX1W3.1 \nMeeting ID: 878 9108 0310 \nPasscode: 360128 \nOne tap mobile \n+13052241968
URL:https://fscpm.org/event/north-florida-monthly-board-meetings/2025-03-12/
CATEGORIES:North Florida Chapter
END:VEVENT
BEGIN:VEVENT
DTSTART;TZID=America/New_York:20250305T120000
DTEND;TZID=America/New_York:20250305T130000
DTSTAMP:20260423T120314
CREATED:20241212T130952Z
LAST-MODIFIED:20241212T130952Z
UID:10000560-1741176000-1741179600@fscpm.org
SUMMARY:Gateway Chapter Monthly Meeting In Person or via Teams
DESCRIPTION:Join the meeting now \nMeeting ID: 267 190 700 401 \nPasscode: 3Er3rW2a
URL:https://fscpm.org/event/gateway-chapter-monthly-meeting-in-person-or-via-teams-3/2025-03-05/
CATEGORIES:Gateway Chapter
END:VEVENT
BEGIN:VEVENT
DTSTART;TZID=America/New_York:20250220T120000
DTEND;TZID=America/New_York:20250220T133000
DTSTAMP:20260423T120314
CREATED:20250116T194411Z
LAST-MODIFIED:20250116T194411Z
UID:10000612-1740052800-1740058200@fscpm.org
SUMMARY:Monthly FSCPM Board Meeting
DESCRIPTION:
URL:https://fscpm.org/event/monthly-fscpm-board-meeting/2025-02-20/
CATEGORIES:FSCPM
END:VEVENT
BEGIN:VEVENT
DTSTART;TZID=America/New_York:20250219T113000
DTEND;TZID=America/New_York:20250219T130000
DTSTAMP:20260423T120314
CREATED:20250213T164859Z
LAST-MODIFIED:20250214T200658Z
UID:10000623-1739964600-1739970000@fscpm.org
SUMMARY:North Florida Chapter Meeting via Zoom ~ Topic: Leading with Love
DESCRIPTION:
URL:https://fscpm.org/event/north-florida-chapter-meeting-via-zoom-5/
CATEGORIES:North Florida Chapter
END:VEVENT
BEGIN:VEVENT
DTSTART;TZID=America/New_York:20250217T110000
DTEND;TZID=America/New_York:20250217T120000
DTSTAMP:20260423T120314
CREATED:20241212T131339Z
LAST-MODIFIED:20241212T131422Z
UID:10000571-1739790000-1739793600@fscpm.org
SUMMARY:Suncoast Chapter Monthly Board Meeting via Teams
DESCRIPTION:
URL:https://fscpm.org/event/suncoast-monthly-board-meeting-via-teams/2025-02-17/
CATEGORIES:Suncoast Chapter
END:VEVENT
BEGIN:VEVENT
DTSTART;TZID=America/New_York:20250212T180000
DTEND;TZID=America/New_York:20250212T190000
DTSTAMP:20260423T120314
CREATED:20241216T190834Z
LAST-MODIFIED:20241216T195619Z
UID:10000598-1739383200-1739386800@fscpm.org
SUMMARY:North Florida Monthly Board Meetings via zoom
DESCRIPTION:North Florida CPM is inviting you to a scheduled Zoom meeting. \nJoin Zoom Meeting \nhttps://us06web.zoom.us/j/87891080310?pwd=Y9B7aQyeqzffE96BysMsKPLVMbX1W3.1 \nMeeting ID: 878 9108 0310 \nPasscode: 360128 \nOne tap mobile \n+13052241968
URL:https://fscpm.org/event/north-florida-monthly-board-meetings/2025-02-12/
CATEGORIES:North Florida Chapter
END:VEVENT
BEGIN:VEVENT
DTSTART;TZID=America/New_York:20250205T120000
DTEND;TZID=America/New_York:20250205T130000
DTSTAMP:20260423T120314
CREATED:20241212T130952Z
LAST-MODIFIED:20241212T130952Z
UID:10000559-1738756800-1738760400@fscpm.org
SUMMARY:Gateway Chapter Monthly Meeting In Person or via Teams
DESCRIPTION:Join the meeting now \nMeeting ID: 267 190 700 401 \nPasscode: 3Er3rW2a
URL:https://fscpm.org/event/gateway-chapter-monthly-meeting-in-person-or-via-teams-3/2025-02-05/
CATEGORIES:Gateway Chapter
END:VEVENT
BEGIN:VEVENT
DTSTART;TZID=America/New_York:20250120T110000
DTEND;TZID=America/New_York:20250120T120000
DTSTAMP:20260423T120314
CREATED:20241212T131339Z
LAST-MODIFIED:20241212T131422Z
UID:10000570-1737370800-1737374400@fscpm.org
SUMMARY:Suncoast Chapter Monthly Board Meeting via Teams
DESCRIPTION:
URL:https://fscpm.org/event/suncoast-monthly-board-meeting-via-teams/2025-01-20/
CATEGORIES:Suncoast Chapter
END:VEVENT
BEGIN:VEVENT
DTSTART;TZID=America/New_York:20250117T140000
DTEND;TZID=America/New_York:20250117T150000
DTSTAMP:20260423T120314
CREATED:20241211T133507Z
LAST-MODIFIED:20250108T140037Z
UID:10000557-1737122400-1737126000@fscpm.org
SUMMARY:Southwest Florida Chapter Board Meeting via zoom
DESCRIPTION:
URL:https://fscpm.org/event/southwest-florida-chapter-board-meeting-via-zoom-4/
CATEGORIES:Southwest Florida Chapter
END:VEVENT
BEGIN:VEVENT
DTSTART;TZID=America/New_York:20250116T113000
DTEND;TZID=America/New_York:20250116T130000
DTSTAMP:20260423T120314
CREATED:20241108T205716Z
LAST-MODIFIED:20250103T135059Z
UID:10000552-1737027000-1737032400@fscpm.org
SUMMARY:FSCPM Board Meeting via zoom
DESCRIPTION:
URL:https://fscpm.org/event/fscpm-board-meeting/
CATEGORIES:FSCPM
END:VEVENT
BEGIN:VEVENT
DTSTART;TZID=America/New_York:20250113T113000
DTEND;TZID=America/New_York:20250113T133000
DTSTAMP:20260423T120314
CREATED:20250103T134520Z
LAST-MODIFIED:20250107T172820Z
UID:10000609-1736767800-1736775000@fscpm.org
SUMMARY:Southwest Florida CPM Refresher - In Person Training
DESCRIPTION:RSVP Link: SW FL CPM Level 5 Refresher – January 13th \n 
URL:https://fscpm.org/event/southwest-florida-cpm-refresher-in-person-training/
LOCATION:2201 Second Street\, 1st Floor\, Fort Myers\, FL 33901\, 2201 Second Street\, 1st Floor\, Fort Myers\, FL\, 33901\, United States
CATEGORIES:Southwest Florida Chapter
ATTACH;FMTTYPE=application/pdf:https://fscpm.org/wp-content/uploads/2025/01/Blue-White-Illustrative-Meet-and-Greet-Instagram-Post-1-1.pdf
END:VEVENT
BEGIN:VEVENT
DTSTART;TZID=America/New_York:20250108T180000
DTEND;TZID=America/New_York:20250108T190000
DTSTAMP:20260423T120314
CREATED:20241216T190834Z
LAST-MODIFIED:20241216T195619Z
UID:10000597-1736359200-1736362800@fscpm.org
SUMMARY:North Florida Monthly Board Meetings via zoom
DESCRIPTION:North Florida CPM is inviting you to a scheduled Zoom meeting. \nJoin Zoom Meeting \nhttps://us06web.zoom.us/j/87891080310?pwd=Y9B7aQyeqzffE96BysMsKPLVMbX1W3.1 \nMeeting ID: 878 9108 0310 \nPasscode: 360128 \nOne tap mobile \n+13052241968
URL:https://fscpm.org/event/north-florida-monthly-board-meetings/2025-01-08/
CATEGORIES:North Florida Chapter
END:VEVENT
BEGIN:VEVENT
DTSTART;TZID=America/New_York:20250108T120000
DTEND;TZID=America/New_York:20250108T130000
DTSTAMP:20260423T120314
CREATED:20241212T130508Z
LAST-MODIFIED:20241212T130508Z
UID:10000558-1736337600-1736341200@fscpm.org
SUMMARY:Gateway Chapter Monthly Meeting In Person or via Teams
DESCRIPTION:Join the meeting now \nMeeting ID: 240 800 874 863 \nPasscode: Zv6Su66P
URL:https://fscpm.org/event/gateway-chapter-monthly-meeting-in-person-or-via-teams-2/
CATEGORIES:Gateway Chapter
END:VEVENT
BEGIN:VEVENT
DTSTART;TZID=America/New_York:20250106T110000
DTEND;TZID=America/New_York:20250106T150000
DTSTAMP:20260423T120314
CREATED:20241213T125854Z
LAST-MODIFIED:20241213T130104Z
UID:10000582-1736161200-1736175600@fscpm.org
SUMMARY:Suncoast Chapter Professional Development Event
DESCRIPTION:Boost Your Leadership Potential with CPM!\nSuncoast Chapter Exclusive Event \nStart your 2025 by sharpening your leadership and collaboration skills! Join the CPM Suncoast Chapter for an inspiring workshop designed to empower you with tools and techniques for leading with impact and building high-performing teams. \n🗓 When: Monday\, January 6th\, 11:00 AM – 3:00 PM\n📍 Where: Entrepreneur Collaborative Center of Economic Development\n2101 E. Palm Ave.\, Tampa\, FL 33605 \n🗣️ Speaker: Merrie A. Allen\, MBA\, CPM\n✨ Topic: Building Trust in the Work Environment\nBased on Charles Feltman’s The Thin Book of Trust\, this session dives into actionable ways to create and sustain trust among team members. \n🍴 Lunch Included: Enjoy mini-Cuban sandwiches\, salad\, chips\, and cookies. \n💵 Cost: FREE for FSCPM – Suncoast Chapter Members \nThis learning opportunity is your chance to connect\, grow\, and gain valuable insights alongside fellow leaders. \n📣 Why Attend? \n\nLearn practical strategies to enhance group performance.\nStrengthen your ability to inspire and motivate teams.\nBuild lasting connections within the CPM community.\n\n💡 Reserve your spot today and take the first step toward a more impactful 2025! \n👉 Register Here:https://questionpro.com/t/ATK2zZ43WQ  \nDon’t miss this chance to grow and thrive with your CPM peers. We look forward to seeing you there!
URL:https://fscpm.org/event/suncoast-chapter-professional-development-event/
CATEGORIES:Suncoast Chapter
END:VEVENT
BEGIN:VEVENT
DTSTART;TZID=America/New_York:20241219T113000
DTEND;TZID=America/New_York:20241219T123000
DTSTAMP:20260423T120314
CREATED:20241216T185940Z
LAST-MODIFIED:20241216T185940Z
UID:10000583-1734607800-1734611400@fscpm.org
SUMMARY:North FL Virtual Event - Tips on handling Holiday Stress for Managers
DESCRIPTION:
URL:https://fscpm.org/event/north-fl-virtual-event-tips-on-handling-holiday-stress-for-managers/
CATEGORIES:North Florida Chapter
END:VEVENT
BEGIN:VEVENT
DTSTART;TZID=America/New_York:20241211T180000
DTEND;TZID=America/New_York:20241211T190000
DTSTAMP:20260423T120314
CREATED:20240522T143254Z
LAST-MODIFIED:20240819T185153Z
UID:10000530-1733940000-1733943600@fscpm.org
SUMMARY:North Florida Chapter Board Meeting via zoom
DESCRIPTION:North Florida CPM is inviting you to a scheduled Zoom meeting. \nJoin Zoom Meeting \nhttps://us06web.zoom.us/j/82130206188?pwd=zh3bIGaavVMRXK3n4dwYaVtduWsL20.1 \nMeeting ID: 821 3020 6188 \nPasscode: 828974 \nDial by your location \n• +1 305 224 1968 US
URL:https://fscpm.org/event/north-florida-chapter-board-meeting-via-zoom/2024-12-11/
CATEGORIES:North Florida Chapter
END:VEVENT
BEGIN:VEVENT
DTSTART;TZID=America/New_York:20241206T180000
DTEND;TZID=America/New_York:20241206T200000
DTSTAMP:20260423T120314
CREATED:20241113T191637Z
LAST-MODIFIED:20241113T191748Z
UID:10000553-1733508000-1733515200@fscpm.org
SUMMARY:Gateway Christmas Party - please RSVP
DESCRIPTION:
URL:https://fscpm.org/event/gateway-christmas-party-please-rsvp/
LOCATION:277 N. Marion Avenue Lake City\, FL\, United States
CATEGORIES:Gateway Chapter
END:VEVENT
BEGIN:VEVENT
DTSTART;TZID=America/New_York:20241206T120000
DTEND;TZID=America/New_York:20241206T130000
DTSTAMP:20260423T120314
CREATED:20241108T205621Z
LAST-MODIFIED:20241108T205621Z
UID:10000551-1733486400-1733490000@fscpm.org
SUMMARY:FSCPM Board Meeting via zoom
DESCRIPTION:
URL:https://fscpm.org/event/fscpm-board-meeting-via-zoom-2/
CATEGORIES:FSCPM
END:VEVENT
BEGIN:VEVENT
DTSTART;TZID=America/New_York:20241206T100000
DTEND;TZID=America/New_York:20241206T110000
DTSTAMP:20260423T120314
CREATED:20240129T171336Z
LAST-MODIFIED:20240129T171454Z
UID:10000497-1733479200-1733482800@fscpm.org
SUMMARY:Southwest Florida CPM Chapter Monthly Board Meetings via zoom
DESCRIPTION:
URL:https://fscpm.org/event/southwest-florida-cpm-chapter-monthly-board-meetings-via-zoom/2024-12-06/
CATEGORIES:Southwest Florida Chapter
END:VEVENT
BEGIN:VEVENT
DTSTART;TZID=America/New_York:20241205T190000
DTEND;TZID=America/New_York:20241205T210000
DTSTAMP:20260423T120314
CREATED:20241205T194333Z
LAST-MODIFIED:20241205T194903Z
UID:10000556-1733425200-1733432400@fscpm.org
SUMMARY:North Florida Holiday Social - PLEASE RSVP
DESCRIPTION:RSVP at jones.olivia34@gmail.com \n 
URL:https://fscpm.org/event/north-florida-holiday-social-please-rsvp/
CATEGORIES:North Florida Chapter
END:VEVENT
BEGIN:VEVENT
DTSTART;TZID=America/New_York:20241204T120000
DTEND;TZID=America/New_York:20241204T130000
DTSTAMP:20260423T120314
CREATED:20240205T131712Z
LAST-MODIFIED:20240205T132326Z
UID:10000507-1733313600-1733317200@fscpm.org
SUMMARY:Gateway Chapter Monthly Meeting In Person or via Teams
DESCRIPTION:Hamilton Conference Room or TEAMS \nFDOT District Office \n1109 S Marion Ave \nLake City 32025 \nMicrosoft Teams meeting \nJoin on your computer\, mobile app or room device \nClick here to join the meeting \nMeeting ID: 245 406 838 44\nPasscode: jrn7Xb \nDownload Teams | Join on the web \nJoin with a video conferencing device \n11384774@t.plcm.vc \nVideo Conference ID: 114 727 289 7 \nAlternate VTC instructions \nOr call in (audio only) \n+1 850-739-5589\,\,557917774#   United States\, Tallahassee \nPhone Conference ID: 557 917 774# \nFind a local number | Reset PIN
URL:https://fscpm.org/event/gateway-chapter-monthly-meeting-in-person-or-via-teams/2024-12-04/
CATEGORIES:Gateway Chapter
END:VEVENT
BEGIN:VEVENT
DTSTART;TZID=America/New_York:20241116T090000
DTEND;TZID=America/New_York:20241116T153000
DTSTAMP:20260423T120314
CREATED:20240819T160848Z
LAST-MODIFIED:20240819T184932Z
UID:10000542-1731747600-1731771000@fscpm.org
SUMMARY:RAD- Rape Aggression Defense Course
DESCRIPTION:All classes will be taught at the Lincoln Neighborhood Center\, 438 West Brevard Street Tallahassee\, FL 32301. \n2024 R.A.D Class Schedule \n\nClass #5: Nov 13th\, 14th (5:30p-8:30p) & Nov 16th (9a -3:30p)\n\n**You must attend all dates within each class session to complete the course** \nTo Register \nEmail Lieutenant Maria Mercurio (R.A.D. Coordinator)\, @ Maria.Mercurio@talgov.com \nOR call the Tallahassee Police Department’s Crime Prevention Unit at 850-891-4251. \n\nPlease provide your name\, email\, and which class number you wish to attend.
URL:https://fscpm.org/event/rad-rape-aggression-defense-course/2024-11-16/
LOCATION:438 West Brevard Street Tallahassee FL 32301\, 438 West Brevard Street\, Tallahassee\, 32301\, United States
CATEGORIES:North Florida Chapter
ATTACH;FMTTYPE=application/pdf:https://fscpm.org/wp-content/uploads/2024/08/RAD.pdf
END:VEVENT
BEGIN:VEVENT
DTSTART;VALUE=DATE:20241116
DTEND;VALUE=DATE:20241117
DTSTAMP:20260423T120314
CREATED:20241106T164532Z
LAST-MODIFIED:20241106T164532Z
UID:10000550-1731715200-1731801599@fscpm.org
SUMMARY:Alzheimer's Walk
DESCRIPTION:Any questions email: jones.olivia34@gmail.com or call Olivia @ 850-491-5921 \nEvent begins at 10:00 AM
URL:https://fscpm.org/event/alzheimers-walk/
LOCATION:Cascade Park\, 1001 S Gadsen Street\, Tallahassee\, FL\, United States
CATEGORIES:North Florida Chapter
END:VEVENT
BEGIN:VEVENT
DTSTART;TZID=America/New_York:20241114T173000
DTEND;TZID=America/New_York:20241114T203000
DTSTAMP:20260423T120314
CREATED:20240819T160848Z
LAST-MODIFIED:20240819T184932Z
UID:10000541-1731605400-1731616200@fscpm.org
SUMMARY:RAD- Rape Aggression Defense Course
DESCRIPTION:All classes will be taught at the Lincoln Neighborhood Center\, 438 West Brevard Street Tallahassee\, FL 32301. \n2024 R.A.D Class Schedule \n\nClass #5: Nov 13th\, 14th (5:30p-8:30p) & Nov 16th (9a -3:30p)\n\n**You must attend all dates within each class session to complete the course** \nTo Register \nEmail Lieutenant Maria Mercurio (R.A.D. Coordinator)\, @ Maria.Mercurio@talgov.com \nOR call the Tallahassee Police Department’s Crime Prevention Unit at 850-891-4251. \n\nPlease provide your name\, email\, and which class number you wish to attend.
URL:https://fscpm.org/event/rad-rape-aggression-defense-course/2024-11-14/
LOCATION:438 West Brevard Street Tallahassee FL 32301\, 438 West Brevard Street\, Tallahassee\, 32301\, United States
CATEGORIES:North Florida Chapter
ATTACH;FMTTYPE=application/pdf:https://fscpm.org/wp-content/uploads/2024/08/RAD.pdf
END:VEVENT
BEGIN:VEVENT
DTSTART;TZID=America/New_York:20241113T180000
DTEND;TZID=America/New_York:20241113T190000
DTSTAMP:20260423T120314
CREATED:20240522T143254Z
LAST-MODIFIED:20240819T185153Z
UID:10000529-1731520800-1731524400@fscpm.org
SUMMARY:North Florida Chapter Board Meeting via zoom
DESCRIPTION:North Florida CPM is inviting you to a scheduled Zoom meeting. \nJoin Zoom Meeting \nhttps://us06web.zoom.us/j/82130206188?pwd=zh3bIGaavVMRXK3n4dwYaVtduWsL20.1 \nMeeting ID: 821 3020 6188 \nPasscode: 828974 \nDial by your location \n• +1 305 224 1968 US
URL:https://fscpm.org/event/north-florida-chapter-board-meeting-via-zoom/2024-11-13/
CATEGORIES:North Florida Chapter
END:VEVENT
BEGIN:VEVENT
DTSTART;TZID=America/New_York:20241113T173000
DTEND;TZID=America/New_York:20241113T203000
DTSTAMP:20260423T120314
CREATED:20240819T160848Z
LAST-MODIFIED:20240819T184932Z
UID:10000540-1731519000-1731529800@fscpm.org
SUMMARY:RAD- Rape Aggression Defense Course
DESCRIPTION:All classes will be taught at the Lincoln Neighborhood Center\, 438 West Brevard Street Tallahassee\, FL 32301. \n2024 R.A.D Class Schedule \n\nClass #5: Nov 13th\, 14th (5:30p-8:30p) & Nov 16th (9a -3:30p)\n\n**You must attend all dates within each class session to complete the course** \nTo Register \nEmail Lieutenant Maria Mercurio (R.A.D. Coordinator)\, @ Maria.Mercurio@talgov.com \nOR call the Tallahassee Police Department’s Crime Prevention Unit at 850-891-4251. \n\nPlease provide your name\, email\, and which class number you wish to attend.
URL:https://fscpm.org/event/rad-rape-aggression-defense-course/2024-11-13/
LOCATION:438 West Brevard Street Tallahassee FL 32301\, 438 West Brevard Street\, Tallahassee\, 32301\, United States
CATEGORIES:North Florida Chapter
ATTACH;FMTTYPE=application/pdf:https://fscpm.org/wp-content/uploads/2024/08/RAD.pdf
END:VEVENT
BEGIN:VEVENT
DTSTART;TZID=America/New_York:20241108T140000
DTEND;TZID=America/New_York:20241108T150000
DTSTAMP:20260423T120314
CREATED:20240906T165545Z
LAST-MODIFIED:20240906T165545Z
UID:10000546-1731074400-1731078000@fscpm.org
SUMMARY:Southwest Florida Board Meeting
DESCRIPTION:
URL:https://fscpm.org/event/southwest-florida-board-meeting/
CATEGORIES:Southwest Florida Chapter
END:VEVENT
BEGIN:VEVENT
DTSTART;TZID=America/New_York:20241106T120000
DTEND;TZID=America/New_York:20241106T130000
DTSTAMP:20260423T120314
CREATED:20240205T131712Z
LAST-MODIFIED:20240205T132326Z
UID:10000506-1730894400-1730898000@fscpm.org
SUMMARY:Gateway Chapter Monthly Meeting In Person or via Teams
DESCRIPTION:Hamilton Conference Room or TEAMS \nFDOT District Office \n1109 S Marion Ave \nLake City 32025 \nMicrosoft Teams meeting \nJoin on your computer\, mobile app or room device \nClick here to join the meeting \nMeeting ID: 245 406 838 44\nPasscode: jrn7Xb \nDownload Teams | Join on the web \nJoin with a video conferencing device \n11384774@t.plcm.vc \nVideo Conference ID: 114 727 289 7 \nAlternate VTC instructions \nOr call in (audio only) \n+1 850-739-5589\,\,557917774#   United States\, Tallahassee \nPhone Conference ID: 557 917 774# \nFind a local number | Reset PIN
URL:https://fscpm.org/event/gateway-chapter-monthly-meeting-in-person-or-via-teams/2024-11-06/
CATEGORIES:Gateway Chapter
END:VEVENT
END:VCALENDAR