BEGIN:VCALENDAR
VERSION:2.0
PRODID:-//Florida Society of Certified Public Managers - ECPv6.15.20//NONSGML v1.0//EN
CALSCALE:GREGORIAN
METHOD:PUBLISH
X-ORIGINAL-URL:https://fscpm.org
X-WR-CALDESC:Events for Florida Society of Certified Public Managers
REFRESH-INTERVAL;VALUE=DURATION:PT1H
X-Robots-Tag:noindex
X-PUBLISHED-TTL:PT1H
BEGIN:VTIMEZONE
TZID:America/New_York
BEGIN:DAYLIGHT
TZOFFSETFROM:-0500
TZOFFSETTO:-0400
TZNAME:EDT
DTSTART:20210314T070000
END:DAYLIGHT
BEGIN:STANDARD
TZOFFSETFROM:-0400
TZOFFSETTO:-0500
TZNAME:EST
DTSTART:20211107T060000
END:STANDARD
BEGIN:DAYLIGHT
TZOFFSETFROM:-0500
TZOFFSETTO:-0400
TZNAME:EDT
DTSTART:20220313T070000
END:DAYLIGHT
BEGIN:STANDARD
TZOFFSETFROM:-0400
TZOFFSETTO:-0500
TZNAME:EST
DTSTART:20221106T060000
END:STANDARD
BEGIN:DAYLIGHT
TZOFFSETFROM:-0500
TZOFFSETTO:-0400
TZNAME:EDT
DTSTART:20230312T070000
END:DAYLIGHT
BEGIN:STANDARD
TZOFFSETFROM:-0400
TZOFFSETTO:-0500
TZNAME:EST
DTSTART:20231105T060000
END:STANDARD
BEGIN:DAYLIGHT
TZOFFSETFROM:-0500
TZOFFSETTO:-0400
TZNAME:EDT
DTSTART:20240310T070000
END:DAYLIGHT
BEGIN:STANDARD
TZOFFSETFROM:-0400
TZOFFSETTO:-0500
TZNAME:EST
DTSTART:20241103T060000
END:STANDARD
END:VTIMEZONE
BEGIN:VEVENT
DTSTART;TZID=America/New_York:20230204T090000
DTEND;TZID=America/New_York:20230204T153000
DTSTAMP:20260423T173853
CREATED:20230124T144321Z
LAST-MODIFIED:20230124T144321Z
UID:10000287-1675501200-1675524600@fscpm.org
SUMMARY:Free Women's Self Defense Class
DESCRIPTION:2023 RAD Classes:  \n Class #1:  January 28th (9a-3:30p) & February 4th (9a-3:30p) \n Class #2:   March 25th (9a-3:30p) & March 28th\, 30th (5:30p-8:30p)  \n Class #3:  June 17th (9a -3:30p) & 24th (9a -3:30p) \n Class #4:   August 22nd\, 24th (5:30p-8:30p) & 26th (9a -3:30p) \n Class #5:   October 10th\, 12th (5:30p-8:30p) & 14th (9a -3:30p) \n Class #6:   November 28th\, 29th (5:30p-8:30p) & December 5th\, 6th (5:30p-8:30p) \n  \n**You must attend all dates within each class session to complete the course. Participants must be 12 years of age or older. \nTo sign up for the course contact Lt. Maria Mercurio at maria.mercurio@talgov.com  \nPlease provide your name\, telephone number and the class you wish to attend. Spaces are limited so sign up early!
URL:https://fscpm.org/event/free-womens-self-defense-class/2023-02-04/
LOCATION:Lincoln Neighborhood Center\, 438 W. Brevard Street\, Tallahassee\, FL\, United States
CATEGORIES:FSCPM,North Florida Chapter
END:VEVENT
BEGIN:VEVENT
DTSTART;TZID=America/New_York:20230203T111500
DTEND;TZID=America/New_York:20230203T121500
DTSTAMP:20260423T173853
CREATED:20230125T205915Z
LAST-MODIFIED:20230130T205404Z
UID:10000303-1675422900-1675426500@fscpm.org
SUMMARY:Southwest Florida Chapter Board Meeting
DESCRIPTION:
URL:https://fscpm.org/event/southwest-florida-chapter-board-meeting/
CATEGORIES:FSCPM,Southwest Florida Chapter
END:VEVENT
BEGIN:VEVENT
DTSTART;TZID=America/New_York:20230201T113000
DTEND;TZID=America/New_York:20230201T123000
DTSTAMP:20260423T173853
CREATED:20230124T191515Z
LAST-MODIFIED:20230124T210010Z
UID:10000302-1675251000-1675254600@fscpm.org
SUMMARY:North Florida CPM Chapter Meeting via zoom
DESCRIPTION:
URL:https://fscpm.org/event/north-florida-cpm-chapter-meeting-via-zoom/
CATEGORIES:FSCPM,North Florida Chapter
END:VEVENT
BEGIN:VEVENT
DTSTART;TZID=America/New_York:20230128T090000
DTEND;TZID=America/New_York:20230128T153000
DTSTAMP:20260423T173853
CREATED:20230124T144321Z
LAST-MODIFIED:20230124T144321Z
UID:10000286-1674896400-1674919800@fscpm.org
SUMMARY:Free Women's Self Defense Class
DESCRIPTION:2023 RAD Classes:  \n Class #1:  January 28th (9a-3:30p) & February 4th (9a-3:30p) \n Class #2:   March 25th (9a-3:30p) & March 28th\, 30th (5:30p-8:30p)  \n Class #3:  June 17th (9a -3:30p) & 24th (9a -3:30p) \n Class #4:   August 22nd\, 24th (5:30p-8:30p) & 26th (9a -3:30p) \n Class #5:   October 10th\, 12th (5:30p-8:30p) & 14th (9a -3:30p) \n Class #6:   November 28th\, 29th (5:30p-8:30p) & December 5th\, 6th (5:30p-8:30p) \n  \n**You must attend all dates within each class session to complete the course. Participants must be 12 years of age or older. \nTo sign up for the course contact Lt. Maria Mercurio at maria.mercurio@talgov.com  \nPlease provide your name\, telephone number and the class you wish to attend. Spaces are limited so sign up early!
URL:https://fscpm.org/event/free-womens-self-defense-class/2023-01-28/
LOCATION:Lincoln Neighborhood Center\, 438 W. Brevard Street\, Tallahassee\, FL\, United States
CATEGORIES:FSCPM,North Florida Chapter
END:VEVENT
BEGIN:VEVENT
DTSTART;TZID=America/New_York:20230125T180000
DTEND;TZID=America/New_York:20230125T190000
DTSTAMP:20260423T173853
CREATED:20230105T145949Z
LAST-MODIFIED:20230105T145949Z
UID:10000469-1674669600-1674673200@fscpm.org
SUMMARY:NFCPM Chapter Board Meeting via zoom
DESCRIPTION:
URL:https://fscpm.org/event/nfcpm-chapter-board-meeting-via-zoom/
LOCATION:Via Zoom
CATEGORIES:North Florida Chapter
END:VEVENT
BEGIN:VEVENT
DTSTART;TZID=America/New_York:20230120T113000
DTEND;TZID=America/New_York:20230120T123000
DTSTAMP:20260423T173853
CREATED:20221216T180455Z
LAST-MODIFIED:20221230T161255Z
UID:10000457-1674214200-1674217800@fscpm.org
SUMMARY:FSCPM Monthly Board Meeting via zoom
DESCRIPTION:
URL:https://fscpm.org/event/fscpm-monthly-board-meeting-via-zoom/2023-01-20/
CATEGORIES:FSCPM
END:VEVENT
BEGIN:VEVENT
DTSTART;TZID=America/New_York:20230111T120000
DTEND;TZID=America/New_York:20230111T130000
DTSTAMP:20260423T173853
CREATED:20221206T164211Z
LAST-MODIFIED:20230105T165315Z
UID:10000456-1673438400-1673442000@fscpm.org
SUMMARY:Southwest Florida Chapter Professional Development Opportunity via Zoom
DESCRIPTION:Speaker: Kelvin Beene\, Training & Development Manager – City of Aurora\, IL.
URL:https://fscpm.org/event/southwest-florida-chapter-professional-development-opportunity-via-zoom/
LOCATION:Via Zoom
CATEGORIES:Southwest Florida Chapter,Training
END:VEVENT
BEGIN:VEVENT
DTSTART;TZID=America/New_York:20230106T113000
DTEND;TZID=America/New_York:20230106T123000
DTSTAMP:20260423T173853
CREATED:20221206T160412Z
LAST-MODIFIED:20221206T160412Z
UID:10000455-1673004600-1673008200@fscpm.org
SUMMARY:Heart of Florida Chapter Board Meeting via Zoom
DESCRIPTION:
URL:https://fscpm.org/event/heart-of-florida-chapter-board-meeting-via-zoom/
CATEGORIES:Heart of Florida
END:VEVENT
BEGIN:VEVENT
DTSTART;TZID=America/New_York:20230106T100000
DTEND;TZID=America/New_York:20230106T110000
DTSTAMP:20260423T173853
CREATED:20220408T151840Z
LAST-MODIFIED:20220408T151840Z
UID:10000420-1672999200-1673002800@fscpm.org
SUMMARY:Southwest Florida Chapter Board Meeting via zoom
DESCRIPTION:
URL:https://fscpm.org/event/southwest-florida-chapter-board-meeting-via-zoom-16/2023-01-06/
CATEGORIES:Southwest Florida Chapter
END:VEVENT
BEGIN:VEVENT
DTSTART;TZID=America/New_York:20221227T173000
DTEND;TZID=America/New_York:20221227T183000
DTSTAMP:20260423T173853
CREATED:20220531T125049Z
LAST-MODIFIED:20220531T125049Z
UID:10000443-1672162200-1672165800@fscpm.org
SUMMARY:North Florida Monthly Board Meetings via Zoom
DESCRIPTION:
URL:https://fscpm.org/event/north-florida-monthly-board-meetings-via-zoom/2022-12-27/
CATEGORIES:North Florida Chapter
END:VEVENT
BEGIN:VEVENT
DTSTART;TZID=America/New_York:20221219T120000
DTEND;TZID=America/New_York:20221219T130000
DTSTAMP:20260423T173853
CREATED:20221031T140540Z
LAST-MODIFIED:20221031T140657Z
UID:10000451-1671451200-1671454800@fscpm.org
SUMMARY:Conversations After the Storm - A Webinar Series
DESCRIPTION:Webinar Series presented by The Florida Center for Public Management \nEvery Monday https://fsu.zoom.us/j/98215407092 \nZoom Meeting ID: 982 1540 7092
URL:https://fscpm.org/event/conversations-after-the-storm-a-webinar-series-5/
CATEGORIES:FSCPM,Training
END:VEVENT
BEGIN:VEVENT
DTSTART;TZID=America/New_York:20221216T173000
DTEND;TZID=America/New_York:20221216T183000
DTSTAMP:20260423T173853
CREATED:20221206T155054Z
LAST-MODIFIED:20221206T155231Z
UID:10000454-1671211800-1671215400@fscpm.org
SUMMARY:Southwest Florida Chapter- Toast to the New Year- in Collier County
DESCRIPTION:
URL:https://fscpm.org/event/southwest-florida-chapter-toast-to-the-new-year-in-collier-county/
CATEGORIES:Networking,Southwest Florida Chapter
END:VEVENT
BEGIN:VEVENT
DTSTART;TZID=America/New_York:20221212T120000
DTEND;TZID=America/New_York:20221212T130000
DTSTAMP:20260423T173853
CREATED:20221031T140458Z
LAST-MODIFIED:20221031T140458Z
UID:10000450-1670846400-1670850000@fscpm.org
SUMMARY:Conversations After the Storm - A Webinar Series
DESCRIPTION:Webinar Series presented by The Florida Center for Public Management \nEvery Monday https://fsu.zoom.us/j/98215407092 \nZoom Meeting ID: 982 1540 7092
URL:https://fscpm.org/event/conversations-after-the-storm-a-webinar-series-4/
CATEGORIES:FSCPM,Training
END:VEVENT
BEGIN:VEVENT
DTSTART;TZID=America/New_York:20221212T103000
DTEND;TZID=America/New_York:20221212T113000
DTSTAMP:20260423T173853
CREATED:20221117T141852Z
LAST-MODIFIED:20221201T193805Z
UID:10000452-1670841000-1670844600@fscpm.org
SUMMARY:Self-Discipline Professional Development Opportunity via Zoom
DESCRIPTION:
URL:https://fscpm.org/event/self-discipline-professional-development-opportunity-via-zoom/
CATEGORIES:Training
END:VEVENT
BEGIN:VEVENT
DTSTART;TZID=America/New_York:20221209T163000
DTEND;TZID=America/New_York:20221209T183000
DTSTAMP:20260423T173853
CREATED:20221206T154938Z
LAST-MODIFIED:20221206T155132Z
UID:10000453-1670603400-1670610600@fscpm.org
SUMMARY:Southwest Florida Chapter- Toast to the New Year Celebration-in Lee County
DESCRIPTION:
URL:https://fscpm.org/event/southwest-florida-chapter-toast-to-the-new-year-celebration/
CATEGORIES:Networking,Southwest Florida Chapter
END:VEVENT
BEGIN:VEVENT
DTSTART;TZID=America/New_York:20221205T120000
DTEND;TZID=America/New_York:20221205T130000
DTSTAMP:20260423T173853
CREATED:20221031T140350Z
LAST-MODIFIED:20221031T140350Z
UID:10000449-1670241600-1670245200@fscpm.org
SUMMARY:Conversations After the Storm - A Webinar Series
DESCRIPTION:Webinar Series presented by The Florida Center for Public Management \nEvery Monday https://fsu.zoom.us/j/98215407092 \nZoom Meeting ID: 982 1540 7092
URL:https://fscpm.org/event/conversations-after-the-storm-a-webinar-series-3/
CATEGORIES:FSCPM,Training
END:VEVENT
BEGIN:VEVENT
DTSTART;TZID=America/New_York:20221202T100000
DTEND;TZID=America/New_York:20221202T110000
DTSTAMP:20260423T173853
CREATED:20220408T151840Z
LAST-MODIFIED:20220408T151840Z
UID:10000419-1669975200-1669978800@fscpm.org
SUMMARY:Southwest Florida Chapter Board Meeting via zoom
DESCRIPTION:
URL:https://fscpm.org/event/southwest-florida-chapter-board-meeting-via-zoom-16/2022-12-02/
CATEGORIES:Southwest Florida Chapter
END:VEVENT
BEGIN:VEVENT
DTSTART;TZID=America/New_York:20221129T173000
DTEND;TZID=America/New_York:20221129T183000
DTSTAMP:20260423T173853
CREATED:20220531T125049Z
LAST-MODIFIED:20220531T125049Z
UID:10000442-1669743000-1669746600@fscpm.org
SUMMARY:North Florida Monthly Board Meetings via Zoom
DESCRIPTION:
URL:https://fscpm.org/event/north-florida-monthly-board-meetings-via-zoom/2022-11-29/
CATEGORIES:North Florida Chapter
END:VEVENT
BEGIN:VEVENT
DTSTART;TZID=America/New_York:20221128T120000
DTEND;TZID=America/New_York:20221128T130000
DTSTAMP:20260423T173853
CREATED:20221031T140246Z
LAST-MODIFIED:20221031T140246Z
UID:10000282-1669636800-1669640400@fscpm.org
SUMMARY:Conversations After the Storm - A Webinar Series
DESCRIPTION:Webinar Series presented by The Florida Center for Public Management \nEvery Monday https://fsu.zoom.us/j/98215407092 \nZoom Meeting ID: 982 1540 7092
URL:https://fscpm.org/event/conversations-after-the-storm-a-webinar-series-2/
CATEGORIES:FSCPM,Training
END:VEVENT
BEGIN:VEVENT
DTSTART;TZID=America/New_York:20221121T120000
DTEND;TZID=America/New_York:20221121T130000
DTSTAMP:20260423T173853
CREATED:20221031T140048Z
LAST-MODIFIED:20221031T140048Z
UID:10000281-1669032000-1669035600@fscpm.org
SUMMARY:Conversations After the Storm - A Webinar Series
DESCRIPTION:Webinar Series presented by The Florida Center for Public Management \nEvery Monday https://fsu.zoom.us/j/98215407092 \nZoom Meeting ID: 982 1540 7092
URL:https://fscpm.org/event/conversations-after-the-storm-a-webinar-series/
CATEGORIES:FSCPM,Training
END:VEVENT
BEGIN:VEVENT
DTSTART;TZID=America/New_York:20221121T120000
DTEND;TZID=America/New_York:20221121T130000
DTSTAMP:20260423T173853
CREATED:20220523T193011Z
LAST-MODIFIED:20231110T181606Z
UID:10000436-1669032000-1669035600@fscpm.org
SUMMARY:FSCPM Book Club Meetings via Zoom
DESCRIPTION:Join us for FSCPM’s virtual book club meeting!  \nThe current book is:\nAtomic Habits: An Easy & Proven Way to Build Good Habits & Break Bad Ones\nThis breakthrough book from James Clear is the most comprehensive guide on how to change your habits and get 1% better every day. \n 
URL:https://fscpm.org/event/fscpm-book-club-meetings/2022-11-21/
CATEGORIES:FSCPM
END:VEVENT
BEGIN:VEVENT
DTSTART;TZID=America/New_York:20221114T120000
DTEND;TZID=America/New_York:20221114T130000
DTSTAMP:20260423T173853
CREATED:20221031T135933Z
LAST-MODIFIED:20221031T135933Z
UID:10000280-1668427200-1668430800@fscpm.org
SUMMARY:Conversations After the Storm-Webinar Series
DESCRIPTION:Webinar Series presented by The Florida Center for Public Management \nEvery Monday https://fsu.zoom.us/j/98215407092 \nZoom Meeting ID: 982 1540 7092
URL:https://fscpm.org/event/conversations-after-the-storm-webinar-series-2/
CATEGORIES:FSCPM,Training
END:VEVENT
BEGIN:VEVENT
DTSTART;TZID=America/New_York:20221114T113000
DTEND;TZID=America/New_York:20221114T130000
DTSTAMP:20260423T173853
CREATED:20220324T170757Z
LAST-MODIFIED:20220324T170757Z
UID:10000414-1668425400-1668430800@fscpm.org
SUMMARY:Central Florida Chapter Meeting via Microsoft Teams
DESCRIPTION:
URL:https://fscpm.org/event/central-florida-chapter-meeting-via-microsoft-teams-3/
LOCATION:via Microsoft Teams
END:VEVENT
BEGIN:VEVENT
DTSTART;TZID=America/New_York:20221111T120000
DTEND;TZID=America/New_York:20221111T130000
DTSTAMP:20260423T173853
CREATED:20211229T205235Z
LAST-MODIFIED:20211229T205235Z
UID:10000400-1668168000-1668171600@fscpm.org
SUMMARY:Heart of Florida Chapter Board Meeting via Zoom
DESCRIPTION:
URL:https://fscpm.org/event/heart-of-florida-chapter-board-meeting-via-zoom-10/
LOCATION:Via Zoom
CATEGORIES:Heart of Florida
END:VEVENT
BEGIN:VEVENT
DTSTART;TZID=America/New_York:20221107T120000
DTEND;TZID=America/New_York:20221107T130000
DTSTAMP:20260423T173853
CREATED:20221031T135813Z
LAST-MODIFIED:20221031T135813Z
UID:10000279-1667822400-1667826000@fscpm.org
SUMMARY:Conversations After the Storm Webinar Series
DESCRIPTION:Webinar Series presented by The Florida Center for Public Management \nEvery Monday https://fsu.zoom.us/j/98215407092 \nZoom Meeting ID: 982 1540 7092
URL:https://fscpm.org/event/conversations-after-the-storm-webinar-series/
CATEGORIES:FSCPM,Training
END:VEVENT
BEGIN:VEVENT
DTSTART;TZID=America/New_York:20221104T100000
DTEND;TZID=America/New_York:20221104T110000
DTSTAMP:20260423T173853
CREATED:20220408T151840Z
LAST-MODIFIED:20220408T151840Z
UID:10000418-1667556000-1667559600@fscpm.org
SUMMARY:Southwest Florida Chapter Board Meeting via zoom
DESCRIPTION:
URL:https://fscpm.org/event/southwest-florida-chapter-board-meeting-via-zoom-16/2022-11-04/
CATEGORIES:Southwest Florida Chapter
END:VEVENT
BEGIN:VEVENT
DTSTART;TZID=America/New_York:20221031T120000
DTEND;TZID=America/New_York:20221031T130000
DTSTAMP:20260423T173853
CREATED:20221031T135647Z
LAST-MODIFIED:20221031T135647Z
UID:10000278-1667217600-1667221200@fscpm.org
SUMMARY:Conversations After the Storm
DESCRIPTION:Webinar Series presented by The Florida Center for Public Management \nEvery Monday https://fsu.zoom.us/j/98215407092 \nZoom Meeting ID: 982 1540 7092 \n 
URL:https://fscpm.org/event/conversations-after-the-storm/
CATEGORIES:FSCPM,Training
END:VEVENT
BEGIN:VEVENT
DTSTART;TZID=America/New_York:20221028T090000
DTEND;TZID=America/New_York:20221028T160000
DTSTAMP:20260423T173853
CREATED:20220713T113639Z
LAST-MODIFIED:20231110T181622Z
UID:10000447-1666947600-1666972800@fscpm.org
SUMMARY:2022 FSCPM REGIONAL SYMPOSIUM
DESCRIPTION:It’s baaaaccckkkkk…\nFSCPM Regional Symposium hosted by the fabulous Suncoast Chapter!\n\n\nFriday\, October 28\, 2022 at the The Regent (6437 Watson Rd\, Riverview\, FL 33578)\nThe Regent (experiencetheregent.com)\nTime: \n9 am to 4 Pm – Check-in begins at 8 am\nCost:\nFSCPM Members $45\nNon-Members $55\nContinental breakfast and lunch included.\nTickets on sale thru 10/22/2022 at 5:00pm.\nSeating is limited so sign up NOW…. \nREGISTRATION CLOSES SOON…reserve your spot TODAY!\nClick on this link for an information flyer that can be shared with your peers.\n2022 FSCPM Symposium Flyer\n 
URL:https://fscpm.org/event/2022-fscpm-regional-symposium/
LOCATION:The Regent
END:VEVENT
BEGIN:VEVENT
DTSTART;TZID=America/New_York:20221025T173000
DTEND;TZID=America/New_York:20221025T183000
DTSTAMP:20260423T173853
CREATED:20220531T125049Z
LAST-MODIFIED:20220531T125049Z
UID:10000441-1666719000-1666722600@fscpm.org
SUMMARY:North Florida Monthly Board Meetings via Zoom
DESCRIPTION:
URL:https://fscpm.org/event/north-florida-monthly-board-meetings-via-zoom/2022-10-25/
CATEGORIES:North Florida Chapter
END:VEVENT
BEGIN:VEVENT
DTSTART;TZID=America/New_York:20221025T113000
DTEND;TZID=America/New_York:20221025T123000
DTSTAMP:20260423T173853
CREATED:20221014T175928Z
LAST-MODIFIED:20221014T175928Z
UID:10000277-1666697400-1666701000@fscpm.org
SUMMARY:“I Survived!”- The Personal Cancer Story of Viletta Coombs\, Esq
DESCRIPTION:Via Zoom
URL:https://fscpm.org/event/i-survived-the-personal-cancer-story-of-viletta-coombs-esq/
CATEGORIES:North Florida Chapter
END:VEVENT
END:VCALENDAR