BEGIN:VCALENDAR
VERSION:2.0
PRODID:-//Florida Society of Certified Public Managers - ECPv6.15.20//NONSGML v1.0//EN
CALSCALE:GREGORIAN
METHOD:PUBLISH
X-WR-CALNAME:Florida Society of Certified Public Managers
X-ORIGINAL-URL:https://fscpm.org
X-WR-CALDESC:Events for Florida Society of Certified Public Managers
REFRESH-INTERVAL;VALUE=DURATION:PT1H
X-Robots-Tag:noindex
X-PUBLISHED-TTL:PT1H
BEGIN:VTIMEZONE
TZID:America/New_York
BEGIN:DAYLIGHT
TZOFFSETFROM:-0500
TZOFFSETTO:-0400
TZNAME:EDT
DTSTART:20210314T070000
END:DAYLIGHT
BEGIN:STANDARD
TZOFFSETFROM:-0400
TZOFFSETTO:-0500
TZNAME:EST
DTSTART:20211107T060000
END:STANDARD
BEGIN:DAYLIGHT
TZOFFSETFROM:-0500
TZOFFSETTO:-0400
TZNAME:EDT
DTSTART:20220313T070000
END:DAYLIGHT
BEGIN:STANDARD
TZOFFSETFROM:-0400
TZOFFSETTO:-0500
TZNAME:EST
DTSTART:20221106T060000
END:STANDARD
BEGIN:DAYLIGHT
TZOFFSETFROM:-0500
TZOFFSETTO:-0400
TZNAME:EDT
DTSTART:20230312T070000
END:DAYLIGHT
BEGIN:STANDARD
TZOFFSETFROM:-0400
TZOFFSETTO:-0500
TZNAME:EST
DTSTART:20231105T060000
END:STANDARD
END:VTIMEZONE
BEGIN:VEVENT
DTSTART;TZID=America/New_York:20220909T120000
DTEND;TZID=America/New_York:20220909T130000
DTSTAMP:20260423T191452
CREATED:20211229T204531Z
LAST-MODIFIED:20211229T204531Z
UID:10000399-1662724800-1662728400@fscpm.org
SUMMARY:Heart of Florida Chapter Board Meeting via Zoom
DESCRIPTION:
URL:https://fscpm.org/event/heart-of-florida-chapter-board-meeting-via-zoom-9/
LOCATION:Via Zoom
CATEGORIES:Heart of Florida
END:VEVENT
BEGIN:VEVENT
DTSTART;TZID=America/New_York:20220902T100000
DTEND;TZID=America/New_York:20220902T110000
DTSTAMP:20260423T191452
CREATED:20220408T151840Z
LAST-MODIFIED:20220408T151840Z
UID:10000416-1662112800-1662116400@fscpm.org
SUMMARY:Southwest Florida Chapter Board Meeting via zoom
DESCRIPTION:
URL:https://fscpm.org/event/southwest-florida-chapter-board-meeting-via-zoom-16/2022-09-02/
CATEGORIES:Southwest Florida Chapter
END:VEVENT
BEGIN:VEVENT
DTSTART;TZID=America/New_York:20220830T173000
DTEND;TZID=America/New_York:20220830T183000
DTSTAMP:20260423T191452
CREATED:20220531T125049Z
LAST-MODIFIED:20220531T125049Z
UID:10000439-1661880600-1661884200@fscpm.org
SUMMARY:North Florida Monthly Board Meetings via Zoom
DESCRIPTION:
URL:https://fscpm.org/event/north-florida-monthly-board-meetings-via-zoom/2022-08-30/
CATEGORIES:North Florida Chapter
END:VEVENT
BEGIN:VEVENT
DTSTART;VALUE=DATE:20220830
DTEND;VALUE=DATE:20220902
DTSTAMP:20260423T191452
CREATED:20220411T190824Z
LAST-MODIFIED:20220411T190838Z
UID:10000423-1661817600-1662076799@fscpm.org
SUMMARY:CPM Graduation #3 via Zoom
DESCRIPTION:
URL:https://fscpm.org/event/cpm-graduation-3-via-zoom/
CATEGORIES:FSCPM
END:VEVENT
BEGIN:VEVENT
DTSTART;VALUE=DATE:20220816
DTEND;VALUE=DATE:20220819
DTSTAMP:20260423T191452
CREATED:20220411T190727Z
LAST-MODIFIED:20220411T190727Z
UID:10000422-1660608000-1660867199@fscpm.org
SUMMARY:CPM Graduation #2 via Zoom
DESCRIPTION:
URL:https://fscpm.org/event/cpm-graduation-2-via-zoom/
CATEGORIES:FSCPM
END:VEVENT
BEGIN:VEVENT
DTSTART;TZID=America/New_York:20220815T120000
DTEND;TZID=America/New_York:20220815T130000
DTSTAMP:20260423T191452
CREATED:20220523T193011Z
LAST-MODIFIED:20231110T181606Z
UID:10000433-1660564800-1660568400@fscpm.org
SUMMARY:FSCPM Book Club Meetings via Zoom
DESCRIPTION:Join us for FSCPM’s virtual book club meeting!  \nThe current book is:\nAtomic Habits: An Easy & Proven Way to Build Good Habits & Break Bad Ones\nThis breakthrough book from James Clear is the most comprehensive guide on how to change your habits and get 1% better every day. \n 
URL:https://fscpm.org/event/fscpm-book-club-meetings/2022-08-15/
CATEGORIES:FSCPM
END:VEVENT
BEGIN:VEVENT
DTSTART;TZID=America/New_York:20220812T110000
DTEND;TZID=America/New_York:20220812T130000
DTSTAMP:20260423T191452
CREATED:20220720T120750Z
LAST-MODIFIED:20231110T181623Z
UID:10000448-1660302000-1660309200@fscpm.org
SUMMARY:Lunch -n- Learn with Speaker Lenora Bresler via Zoom - Topic: Three Big Questions
DESCRIPTION:TOPIC:    THREE BIG QUESTIONS\nThis program introduces you to three questions whose answers give you the ability to connect and engage with just about anyone on a fundamental basis. Based on the book “Instant Insight: 15 Questions to Great Relationship”\, this lunch and learn is an introduction to the most important of those 15 questions. Effective relationships thrive because people understand what makes each other “tick.” Conventional wisdom says this understanding takes time to develop — after trial and error\, hurt feelings\, and lost trust\, but there are short-cuts to establishing immediate rapport and credibility. Indeed\, great relationships can be established almost immediately – and every leader needs to know how! Jumpstart any relationship — including employer-employee\, teams\, even personal relationships — by asking simple\,  non-threatening questions that will give you the insight you need to motivate\, persuade\, teach\, and empower anyone — instantly! Nationally acclaimed leadership speaker\, author\, trainer\, and coach J. Lenora Bresler will keep you laughing and engaged as you discover these secrets to instant success.\nRSVP today by clicking this link:  https://forms.gle/thYEAyYUbdXCbJ8a7\nEmail Southwest Florida Chapter of CPM <swflcpm@gmail.com> with any questions.
URL:https://fscpm.org/event/lunch-n-learn-with-speaker-lenora-bresier-via-zoom/
CATEGORIES:FSCPM,Southwest Florida Chapter,Training
END:VEVENT
BEGIN:VEVENT
DTSTART;TZID=America/New_York:20220808T113000
DTEND;TZID=America/New_York:20220808T130000
DTSTAMP:20260423T191452
CREATED:20220324T170717Z
LAST-MODIFIED:20220324T170717Z
UID:10000413-1659958200-1659963600@fscpm.org
SUMMARY:Central Florida Chapter Meeting via Microsoft Teams
DESCRIPTION:
URL:https://fscpm.org/event/central-florida-chapter-meeting-via-microsoft-teams-2/
LOCATION:via Microsoft Teams
END:VEVENT
BEGIN:VEVENT
DTSTART;TZID=America/New_York:20220805T100000
DTEND;TZID=America/New_York:20220805T110000
DTSTAMP:20260423T191452
CREATED:20220128T131952Z
LAST-MODIFIED:20220128T131952Z
UID:10000408-1659693600-1659697200@fscpm.org
SUMMARY:Southwest Florida Chapter Board Meeting via zoom
DESCRIPTION:
URL:https://fscpm.org/event/southwest-florida-chapter-board-meeting-via-zoom-15/
CATEGORIES:Southwest Florida Chapter
END:VEVENT
BEGIN:VEVENT
DTSTART;TZID=America/New_York:20220727T120000
DTEND;TZID=America/New_York:20220727T130000
DTSTAMP:20260423T191452
CREATED:20220629T142427Z
LAST-MODIFIED:20220629T142427Z
UID:10000444-1658923200-1658926800@fscpm.org
SUMMARY:Training on Body Language via Zoom
DESCRIPTION:
URL:https://fscpm.org/event/training-on-body-language-via-zoom/
CATEGORIES:Training
END:VEVENT
BEGIN:VEVENT
DTSTART;TZID=America/New_York:20220726T173000
DTEND;TZID=America/New_York:20220726T183000
DTSTAMP:20260423T191452
CREATED:20220531T125049Z
LAST-MODIFIED:20220531T125049Z
UID:10000438-1658856600-1658860200@fscpm.org
SUMMARY:North Florida Monthly Board Meetings via Zoom
DESCRIPTION:
URL:https://fscpm.org/event/north-florida-monthly-board-meetings-via-zoom/2022-07-26/
CATEGORIES:North Florida Chapter
END:VEVENT
BEGIN:VEVENT
DTSTART;VALUE=DATE:20220719
DTEND;VALUE=DATE:20220722
DTSTAMP:20260423T191452
CREATED:20220411T190640Z
LAST-MODIFIED:20220411T190640Z
UID:10000421-1658188800-1658447999@fscpm.org
SUMMARY:CPM Graduation in Tallahassee
DESCRIPTION:In Person July 19-21
URL:https://fscpm.org/event/cpm-graduation-in-tallahassee/
CATEGORIES:FSCPM,North Florida Chapter
END:VEVENT
BEGIN:VEVENT
DTSTART;TZID=America/New_York:20220718T120000
DTEND;TZID=America/New_York:20220718T130000
DTSTAMP:20260423T191452
CREATED:20220523T193011Z
LAST-MODIFIED:20231110T181606Z
UID:10000432-1658145600-1658149200@fscpm.org
SUMMARY:FSCPM Book Club Meetings via Zoom
DESCRIPTION:Join us for FSCPM’s virtual book club meeting!  \nThe current book is:\nAtomic Habits: An Easy & Proven Way to Build Good Habits & Break Bad Ones\nThis breakthrough book from James Clear is the most comprehensive guide on how to change your habits and get 1% better every day. \n 
URL:https://fscpm.org/event/fscpm-book-club-meetings/2022-07-18/
CATEGORIES:FSCPM
END:VEVENT
BEGIN:VEVENT
DTSTART;TZID=America/New_York:20220714T110000
DTEND;TZID=America/New_York:20220714T110000
DTSTAMP:20260423T191452
CREATED:20220425T182650Z
LAST-MODIFIED:20220425T182650Z
UID:10000429-1657796400-1657796400@fscpm.org
SUMMARY:Tallahassee Graduation Training via Zoom
DESCRIPTION:
URL:https://fscpm.org/event/tallahassee-graduation-training-via-zoom/
LOCATION:Via Zoom
CATEGORIES:FSCPM,Training
END:VEVENT
BEGIN:VEVENT
DTSTART;TZID=America/New_York:20220708T120000
DTEND;TZID=America/New_York:20220708T130000
DTSTAMP:20260423T191452
CREATED:20211229T204210Z
LAST-MODIFIED:20211229T204210Z
UID:10000398-1657281600-1657285200@fscpm.org
SUMMARY:Heart of Florida Chapter Board Meeting via Zoom
DESCRIPTION:
URL:https://fscpm.org/event/heart-of-florida-chapter-board-meeting-via-zoom-8/
LOCATION:Via Zoom
CATEGORIES:Heart of Florida
END:VEVENT
BEGIN:VEVENT
DTSTART;TZID=America/New_York:20220708T100000
DTEND;TZID=America/New_York:20220708T110000
DTSTAMP:20260423T191452
CREATED:20220128T131702Z
LAST-MODIFIED:20220128T131702Z
UID:10000407-1657274400-1657278000@fscpm.org
SUMMARY:Southwest Florida Chapter Board Meeting via zoom
DESCRIPTION:
URL:https://fscpm.org/event/southwest-florida-chapter-board-meeting-via-zoom-14/
CATEGORIES:Southwest Florida Chapter
END:VEVENT
BEGIN:VEVENT
DTSTART;TZID=America/New_York:20220628T173000
DTEND;TZID=America/New_York:20220628T183000
DTSTAMP:20260423T191452
CREATED:20220531T125049Z
LAST-MODIFIED:20220531T125049Z
UID:10000437-1656437400-1656441000@fscpm.org
SUMMARY:North Florida Monthly Board Meetings via Zoom
DESCRIPTION:
URL:https://fscpm.org/event/north-florida-monthly-board-meetings-via-zoom/2022-06-28/
CATEGORIES:North Florida Chapter
END:VEVENT
BEGIN:VEVENT
DTSTART;TZID=America/New_York:20220620T120000
DTEND;TZID=America/New_York:20220620T130000
DTSTAMP:20260423T191452
CREATED:20220523T193011Z
LAST-MODIFIED:20231110T181606Z
UID:10000431-1655726400-1655730000@fscpm.org
SUMMARY:FSCPM Book Club Meetings via Zoom
DESCRIPTION:Join us for FSCPM’s virtual book club meeting!  \nThe current book is:\nAtomic Habits: An Easy & Proven Way to Build Good Habits & Break Bad Ones\nThis breakthrough book from James Clear is the most comprehensive guide on how to change your habits and get 1% better every day. \n 
URL:https://fscpm.org/event/fscpm-book-club-meetings/2022-06-20/
CATEGORIES:FSCPM
END:VEVENT
BEGIN:VEVENT
DTSTART;TZID=America/New_York:20220616T130000
DTEND;TZID=America/New_York:20220616T160000
DTSTAMP:20260423T191452
CREATED:20220413T135814Z
LAST-MODIFIED:20220413T135831Z
UID:10000425-1655384400-1655395200@fscpm.org
SUMMARY:Come join the FSCPM Suncoast Chapter for an in‐person True Colors workshop
DESCRIPTION:Come join the FSCPM—Suncoast Chapter for an in‐person True Colors workshop\nWhere: FDOT District 7 Headquarters\n11201 N. McKinley Drive\nTampa\, FL 33612\nWhen: June 16\, 2022—1 to 4 pm\nChapter meeting to follow\, same location from 4 to 5 pm\nDinner and fellowship off site after\, optional\n*All DOT attendees will receive Professional Education training credit!
URL:https://fscpm.org/event/come-join-the-fscpm-suncoast-chapter-for-an-in%e2%80%90person-true-colors-workshop/
CATEGORIES:Suncoast Chapter,Training
END:VEVENT
BEGIN:VEVENT
DTSTART;VALUE=DATE:20220614
DTEND;VALUE=DATE:20220615
DTSTAMP:20260423T191452
CREATED:20220519T190623Z
LAST-MODIFIED:20220519T190623Z
UID:10000430-1655164800-1655251199@fscpm.org
SUMMARY:NFCPM Eat\, Meet\, and Greet
DESCRIPTION:
URL:https://fscpm.org/event/nfcpm-eat-meet-and-greet/
LOCATION:BECC Building 4055 (Cafe’) across from the Betty Easley Conference Center\, Tallahassee\, FL 32399
CATEGORIES:Networking,North Florida Chapter
END:VEVENT
BEGIN:VEVENT
DTSTART;TZID=America/New_York:20220603T100000
DTEND;TZID=America/New_York:20220603T110000
DTSTAMP:20260423T191452
CREATED:20220128T131602Z
LAST-MODIFIED:20220128T131602Z
UID:10000406-1654250400-1654254000@fscpm.org
SUMMARY:Southwest Florida Chapter Board Meeting via zoom
DESCRIPTION:
URL:https://fscpm.org/event/southwest-florida-chapter-board-meeting-via-zoom-13/
CATEGORIES:Southwest Florida Chapter
END:VEVENT
BEGIN:VEVENT
DTSTART;TZID=America/New_York:20220513T120000
DTEND;TZID=America/New_York:20220513T130000
DTSTAMP:20260423T191452
CREATED:20211229T203837Z
LAST-MODIFIED:20211229T203837Z
UID:10000397-1652443200-1652446800@fscpm.org
SUMMARY:Heart of Florida Chapter Board Meeting via Zoom
DESCRIPTION:
URL:https://fscpm.org/event/heart-of-florida-chapter-board-meeting-via-zoom-7/
LOCATION:Via Zoom
CATEGORIES:Heart of Florida
END:VEVENT
BEGIN:VEVENT
DTSTART;TZID=America/New_York:20220509T113000
DTEND;TZID=America/New_York:20220509T130000
DTSTAMP:20260423T191452
CREATED:20220324T170612Z
LAST-MODIFIED:20220324T170612Z
UID:10000412-1652095800-1652101200@fscpm.org
SUMMARY:Central Florida Chapter Meeting via Microsoft Teams
DESCRIPTION:
URL:https://fscpm.org/event/central-florida-chapter-meeting-via-microsoft-teams/
LOCATION:Microsoft Teams
END:VEVENT
BEGIN:VEVENT
DTSTART;TZID=America/New_York:20220506T100000
DTEND;TZID=America/New_York:20220506T110000
DTSTAMP:20260423T191452
CREATED:20220128T131322Z
LAST-MODIFIED:20220128T131322Z
UID:10000405-1651831200-1651834800@fscpm.org
SUMMARY:Southwest Florida Chapter Board Meeting via zoom
DESCRIPTION:
URL:https://fscpm.org/event/southwest-florida-chapter-board-meeting-via-zoom-12/
CATEGORIES:Southwest Florida Chapter
END:VEVENT
BEGIN:VEVENT
DTSTART;TZID=America/New_York:20220427T183000
DTEND;TZID=America/New_York:20220427T203000
DTSTAMP:20260423T191452
CREATED:20220413T135111Z
LAST-MODIFIED:20220426T143928Z
UID:10000424-1651084200-1651091400@fscpm.org
SUMMARY:FSCPM Central Florida Networking Event
DESCRIPTION:Please join us in Orlando for an evening to connect\, network\, and learn ~ probably more laughing then learning at this one & that’s ok! \nCafé Trastevere at 825 N. Magnolia Ave in Orlando.  http://cafetrastevere.com/ \nWe currently have a table for 10 outside. It is Administrative Professional’s Day\, so you might want to bring an admin guest if they would like to help celebrate. They have wine\, beer\, sangria and appetizers. \nLet me know if you need more information. \n 
URL:https://fscpm.org/event/fscpm-central-florida-networking-event/
CATEGORIES:Networking
END:VEVENT
BEGIN:VEVENT
DTSTART;TZID=America/New_York:20220426T113000
DTEND;TZID=America/New_York:20220426T130000
DTSTAMP:20260423T191452
CREATED:20220420T114648Z
LAST-MODIFIED:20220420T114648Z
UID:10000428-1650972600-1650978000@fscpm.org
SUMMARY:Acrylic Pour Painting Fundraiser for Gateway Chapter
DESCRIPTION:at the FDOT District Office Front Parking Lot
URL:https://fscpm.org/event/acrylic-pour-painting-fundraiser-for-gateway-chapter/
LOCATION:1109 S. Marion Avenue Lake City FL 32025\, 1109 S. Marion Avenue\, Lake City\, FL\, 32025\, United States
CATEGORIES:Gateway Chapter
END:VEVENT
BEGIN:VEVENT
DTSTART;TZID=America/New_York:20220415T190000
DTEND;TZID=America/New_York:20220415T210000
DTSTAMP:20260423T191452
CREATED:20220414T194356Z
LAST-MODIFIED:20220414T194356Z
UID:10000427-1650049200-1650056400@fscpm.org
SUMMARY:Social @ Halpatter Brewing Company\, Lake City
DESCRIPTION:
URL:https://fscpm.org/event/social-halpatter-brewing-company-lake-city/
CATEGORIES:Gateway Chapter
END:VEVENT
BEGIN:VEVENT
DTSTART;TZID=America/New_York:20220414T133000
DTEND;TZID=America/New_York:20220414T143000
DTSTAMP:20260423T191452
CREATED:20220414T194312Z
LAST-MODIFIED:20220414T194312Z
UID:10000426-1649943000-1649946600@fscpm.org
SUMMARY:Gateway Chapter Meeting Speaker Symone Carter\, PT
DESCRIPTION:Speaker Symone Carter\, PT \n 1:30-2:30  Topic: It’s going “tibia” okay!
URL:https://fscpm.org/event/gateway-chapter-meeting-speaker-symone-carter-pt/
CATEGORIES:Gateway Chapter
END:VEVENT
BEGIN:VEVENT
DTSTART;TZID=America/New_York:20220413T120000
DTEND;TZID=America/New_York:20220413T130000
DTSTAMP:20260423T191452
CREATED:20220204T154742Z
LAST-MODIFIED:20220411T131244Z
UID:10000410-1649851200-1649854800@fscpm.org
SUMMARY:SWFL FSCPM Chapter Presents: Jackie Bristo "Is Your Professional Ladder Leaning against the Right Wall?"
DESCRIPTION:Check out Southwest Florida Chapter’s next CPM Learning Event! \nPaid FSCPM members attend for FREE! Click the RSVP button below. \nNon-member attendees are just $5!  Click the Ticket button below. \n 
URL:https://fscpm.org/event/sw-fl-cpm-presents-jackie-bristo-is-your-professional-ladder-leaning-against-the-right-wall/
CATEGORIES:Southwest Florida Chapter,Training
END:VEVENT
BEGIN:VEVENT
DTSTART;TZID=America/New_York:20220411T113000
DTEND;TZID=America/New_York:20220411T123000
DTSTAMP:20260423T191452
CREATED:20220405T121352Z
LAST-MODIFIED:20220405T121520Z
UID:10000415-1649676600-1649680200@fscpm.org
SUMMARY:Suncoast Chapter Board Meeting via Teams
DESCRIPTION:Please contact the chapter Board officers for the link. \n 
URL:https://fscpm.org/event/suncoast-chapter-board-meeting-via-teams/
LOCATION:via Microsoft Teams
CATEGORIES:Suncoast Chapter
END:VEVENT
END:VCALENDAR