BEGIN:VCALENDAR
VERSION:2.0
PRODID:-//Florida Society of Certified Public Managers - ECPv6.15.20//NONSGML v1.0//EN
CALSCALE:GREGORIAN
METHOD:PUBLISH
X-WR-CALNAME:Florida Society of Certified Public Managers
X-ORIGINAL-URL:https://fscpm.org
X-WR-CALDESC:Events for Florida Society of Certified Public Managers
REFRESH-INTERVAL;VALUE=DURATION:PT1H
X-Robots-Tag:noindex
X-PUBLISHED-TTL:PT1H
BEGIN:VTIMEZONE
TZID:America/New_York
BEGIN:DAYLIGHT
TZOFFSETFROM:-0500
TZOFFSETTO:-0400
TZNAME:EDT
DTSTART:20200308T070000
END:DAYLIGHT
BEGIN:STANDARD
TZOFFSETFROM:-0400
TZOFFSETTO:-0500
TZNAME:EST
DTSTART:20201101T060000
END:STANDARD
BEGIN:DAYLIGHT
TZOFFSETFROM:-0500
TZOFFSETTO:-0400
TZNAME:EDT
DTSTART:20210314T070000
END:DAYLIGHT
BEGIN:STANDARD
TZOFFSETFROM:-0400
TZOFFSETTO:-0500
TZNAME:EST
DTSTART:20211107T060000
END:STANDARD
BEGIN:DAYLIGHT
TZOFFSETFROM:-0500
TZOFFSETTO:-0400
TZNAME:EDT
DTSTART:20220313T070000
END:DAYLIGHT
BEGIN:STANDARD
TZOFFSETFROM:-0400
TZOFFSETTO:-0500
TZNAME:EST
DTSTART:20221106T060000
END:STANDARD
END:VTIMEZONE
BEGIN:VEVENT
DTSTART;TZID=America/New_York:20211217T113000
DTEND;TZID=America/New_York:20211217T123000
DTSTAMP:20260423T204210
CREATED:20201214T155236Z
LAST-MODIFIED:20201214T155236Z
UID:10000367-1639740600-1639744200@fscpm.org
SUMMARY:Monthly FSCPM Board Meeting via Zoom
DESCRIPTION:
URL:https://fscpm.org/event/monthly-fscpm-board-meeting-via-zoom/2021-12-17/
CATEGORIES:FSCPM
END:VEVENT
BEGIN:VEVENT
DTSTART;TZID=America/New_York:20211215T153000
DTEND;TZID=America/New_York:20211215T163000
DTSTAMP:20260423T204210
CREATED:20210108T133625Z
LAST-MODIFIED:20210108T134014Z
UID:10000379-1639582200-1639585800@fscpm.org
SUMMARY:Central Florida Chapter Board Meetings via Zoom
DESCRIPTION:
URL:https://fscpm.org/event/central-florida-chapter-board-meetings-via-zoom/2021-12-15/
END:VEVENT
BEGIN:VEVENT
DTSTART;TZID=America/New_York:20211210T113000
DTEND;TZID=America/New_York:20211210T130000
DTSTAMP:20260423T204210
CREATED:20201214T132953Z
LAST-MODIFIED:20201214T132953Z
UID:10000354-1639135800-1639141200@fscpm.org
SUMMARY:Heart of Florida Chapter Board & Membership Meeting via Zoom
DESCRIPTION:
URL:https://fscpm.org/event/heart-of-florida-chapter-board-membership-meeting-via-zoom/2021-12-10/
CATEGORIES:Heart of Florida
END:VEVENT
BEGIN:VEVENT
DTSTART;TZID=America/New_York:20211209T120000
DTEND;TZID=America/New_York:20211209T150000
DTSTAMP:20260423T204210
CREATED:20200921T183845Z
LAST-MODIFIED:20210716T170146Z
UID:10000332-1639051200-1639062000@fscpm.org
SUMMARY:Gateway Chapter Meetings via Zoom
DESCRIPTION:
URL:https://fscpm.org/event/gateway-chapter-meetings-via-zoom/2021-12-09/
CATEGORIES:Gateway Chapter
END:VEVENT
BEGIN:VEVENT
DTSTART;TZID=America/New_York:20211203T100000
DTEND;TZID=America/New_York:20211203T110000
DTSTAMP:20260423T204210
CREATED:20210108T163307Z
LAST-MODIFIED:20210108T163307Z
UID:10000385-1638525600-1638529200@fscpm.org
SUMMARY:Southwest Florida Chapter Board Meeting via Zoom
DESCRIPTION:
URL:https://fscpm.org/event/southwest-florida-chapter-board-meeting-via-zoom-7/2021-12-03/
CATEGORIES:Southwest Florida Chapter
END:VEVENT
BEGIN:VEVENT
DTSTART;TZID=America/New_York:20211202T173000
DTEND;TZID=America/New_York:20211202T200000
DTSTAMP:20260423T204210
CREATED:20211117T164347Z
LAST-MODIFIED:20231110T181531Z
UID:10000393-1638466200-1638475200@fscpm.org
SUMMARY:Suncoast Chapter Membership Meeting & Christmas Party
DESCRIPTION:Please come join the FSCPM Suncoast Chapter for our annual Christmas Meeting and Dinner! \n  \nWhen:  Thursday\, December 2\, 2021 5:30 pm \nWhere:  Frontier Steakhouse 8602 E Sligh Ave\, Tampa\, FL 33610 \n  \n*Appetizers provided by the Chapter. \n*Please bring a $20.00 gift for the gift exchange game. \n  \nOn behalf of our membership\, the Suncoast Chapter has \nmade holiday donations to: \nMetropolitan Ministries\, Toys for Tots\, and The Spring!! \nPlease download and share the PDF link below with other CPMs.  All are welcome!! \nPlease RSVP to antinori@hillstax.org \nFSCPM Suncoast Chapter – Christmas Party Invite 2021.12.02
URL:https://fscpm.org/event/suncoast-chapter-membership-meeting-christmas-party/
LOCATION:Frontier Steakhouse 8602 E Sligh Ave\, Tampa\, FL 33610
CATEGORIES:FSCPM,Suncoast Chapter
END:VEVENT
BEGIN:VEVENT
DTSTART;TZID=America/New_York:20211202T130000
DTEND;TZID=America/New_York:20211202T163000
DTSTAMP:20260423T204210
CREATED:20211117T115125Z
LAST-MODIFIED:20231110T181538Z
UID:10000392-1638450000-1638462600@fscpm.org
SUMMARY:Suncoast Chapter "6 Hats Thinking" Training
DESCRIPTION:Come join the Suncoast Chapter for this FREE valuable learning and professional development opportunity \n~ “The 6 Thinking Hats” ~ \nThis workshop will help you look at important issues from several different perspectives to help you make better decisions. Explore how to move outside your habitual way of thinking to fully understand the complexity of a decision\, spot issues\, and opportunities that may present blind spots. \n  \nWhen: Thursday\, December 2\, 2021 – 1:00pm – 4:30pm \nWhere:  FDOT District 7 Headquarters 11201 N. McKinley Drive\, Tampa\, FL 33612 \n  \n  \nClick on this link to download a PDF and share with other CPMs. \nFSCPM Suncoast Chapter 6 Hats Training 2021-11-15 \n  \nPlease RSVP to antinori@hillstax.org \n  \n  \nDawn Antinori \nMember Affairs Director\, FSCPM Suncoast Chapter \n 
URL:https://fscpm.org/event/suncoast-chapter-6-hats-thinking-training/
LOCATION:FDOT District 7 Headquarters 11201 N. McKinley Drive\, Tampa\, FL 33612
CATEGORIES:Suncoast Chapter,Training
END:VEVENT
BEGIN:VEVENT
DTSTART;TZID=America/New_York:20211119T113000
DTEND;TZID=America/New_York:20211119T123000
DTSTAMP:20260423T204210
CREATED:20201214T155236Z
LAST-MODIFIED:20201214T155236Z
UID:10000366-1637321400-1637325000@fscpm.org
SUMMARY:Monthly FSCPM Board Meeting via Zoom
DESCRIPTION:
URL:https://fscpm.org/event/monthly-fscpm-board-meeting-via-zoom/2021-11-19/
CATEGORIES:FSCPM
END:VEVENT
BEGIN:VEVENT
DTSTART;TZID=America/New_York:20211117T153000
DTEND;TZID=America/New_York:20211117T163000
DTSTAMP:20260423T204210
CREATED:20210108T133625Z
LAST-MODIFIED:20210108T134014Z
UID:10000378-1637163000-1637166600@fscpm.org
SUMMARY:Central Florida Chapter Board Meetings via Zoom
DESCRIPTION:
URL:https://fscpm.org/event/central-florida-chapter-board-meetings-via-zoom/2021-11-17/
END:VEVENT
BEGIN:VEVENT
DTSTART;TZID=America/New_York:20211112T113000
DTEND;TZID=America/New_York:20211112T130000
DTSTAMP:20260423T204210
CREATED:20201214T132953Z
LAST-MODIFIED:20201214T132953Z
UID:10000353-1636716600-1636722000@fscpm.org
SUMMARY:Heart of Florida Chapter Board & Membership Meeting via Zoom
DESCRIPTION:
URL:https://fscpm.org/event/heart-of-florida-chapter-board-membership-meeting-via-zoom/2021-11-12/
CATEGORIES:Heart of Florida
END:VEVENT
BEGIN:VEVENT
DTSTART;TZID=America/New_York:20211109T120000
DTEND;TZID=America/New_York:20211109T140000
DTSTAMP:20260423T204210
CREATED:20200921T183845Z
LAST-MODIFIED:20231110T181519Z
UID:10000335-1636459200-1636466400@fscpm.org
SUMMARY:Gateway Chapter Lunch & Learn
DESCRIPTION:  \nGateway Chapter is hosting an in-person Lunch & Learn on Tuesday\, November 9th.  Below is a link to a flyer for distribution in your organizations. \nFSCPM Gateway Chapter Jill Adams 11-09-2021 \nRSVP required for those attending in person.   \n\nFor those that cannot make it in person\, please use the TEAMS link below to join us. \nMicrosoft Teams Info \nJoin on your computer or mobile app \nClick here to join the meeting \nJoin with a video conferencing device \n11384774@t.plcm.vc \nVideo Conference ID: 115 676 360 8 \nAlternate VTC instructions
URL:https://fscpm.org/event/gateway-chapter-meetings-via-zoom-2021-11-11/
CATEGORIES:Gateway Chapter
END:VEVENT
BEGIN:VEVENT
DTSTART;TZID=America/New_York:20211105T120000
DTEND;TZID=America/New_York:20211105T130000
DTSTAMP:20260423T204210
CREATED:20211027T124215Z
LAST-MODIFIED:20231110T181524Z
UID:10000391-1636113600-1636117200@fscpm.org
SUMMARY:Lunch & Learn with HFSCPM
DESCRIPTION:Lunch and Learn with HFSCPM!! \nPlease spread the word about the upcoming professional development session with Leonard Wood scheduled for November 5 at noon.  This training is sponsored by the Heart of Florida chapter. He’ll be presenting “Professional Maturity 101” via Zoom.  HFSCPM invites all fellow FSCPM members from around the state to join them for this event.  The Zoom meeting ID and passcode are at the bottom of the flyer.  If there are any questions\, feel free to reach out to Nicole Walker\, HFSCPM Professional Development Director. \nFeel free to download the flyer and forward to your chapter members! \n  \n  \nHFCPM 11.05.21 Lunch & Learn
URL:https://fscpm.org/event/lunch-learn-with-hfscpm/
LOCATION:Via Zoom
CATEGORIES:FSCPM,Heart of Florida,Training
END:VEVENT
BEGIN:VEVENT
DTSTART;TZID=America/New_York:20211105T100000
DTEND;TZID=America/New_York:20211105T110000
DTSTAMP:20260423T204210
CREATED:20210108T163307Z
LAST-MODIFIED:20210108T163307Z
UID:10000384-1636106400-1636110000@fscpm.org
SUMMARY:Southwest Florida Chapter Board Meeting via Zoom
DESCRIPTION:
URL:https://fscpm.org/event/southwest-florida-chapter-board-meeting-via-zoom-7/2021-11-05/
CATEGORIES:Southwest Florida Chapter
END:VEVENT
BEGIN:VEVENT
DTSTART;TZID=America/New_York:20211020T153000
DTEND;TZID=America/New_York:20211020T163000
DTSTAMP:20260423T204210
CREATED:20210108T133625Z
LAST-MODIFIED:20210108T134014Z
UID:10000377-1634743800-1634747400@fscpm.org
SUMMARY:Central Florida Chapter Board Meetings via Zoom
DESCRIPTION:
URL:https://fscpm.org/event/central-florida-chapter-board-meetings-via-zoom/2021-10-20/
END:VEVENT
BEGIN:VEVENT
DTSTART;TZID=America/New_York:20211015T113000
DTEND;TZID=America/New_York:20211015T123000
DTSTAMP:20260423T204210
CREATED:20201214T155236Z
LAST-MODIFIED:20201214T155236Z
UID:10000365-1634297400-1634301000@fscpm.org
SUMMARY:Monthly FSCPM Board Meeting via Zoom
DESCRIPTION:
URL:https://fscpm.org/event/monthly-fscpm-board-meeting-via-zoom/2021-10-15/
CATEGORIES:FSCPM
END:VEVENT
BEGIN:VEVENT
DTSTART;TZID=America/New_York:20211014T120000
DTEND;TZID=America/New_York:20211014T150000
DTSTAMP:20260423T204210
CREATED:20200921T183845Z
LAST-MODIFIED:20210716T170146Z
UID:10000331-1634212800-1634223600@fscpm.org
SUMMARY:Gateway Chapter Meetings via Zoom
DESCRIPTION:
URL:https://fscpm.org/event/gateway-chapter-meetings-via-zoom/2021-10-14/
CATEGORIES:Gateway Chapter
END:VEVENT
BEGIN:VEVENT
DTSTART;TZID=America/New_York:20211008T113000
DTEND;TZID=America/New_York:20211008T130000
DTSTAMP:20260423T204210
CREATED:20201214T132953Z
LAST-MODIFIED:20201214T132953Z
UID:10000352-1633692600-1633698000@fscpm.org
SUMMARY:Heart of Florida Chapter Board & Membership Meeting via Zoom
DESCRIPTION:
URL:https://fscpm.org/event/heart-of-florida-chapter-board-membership-meeting-via-zoom/2021-10-08/
CATEGORIES:Heart of Florida
END:VEVENT
BEGIN:VEVENT
DTSTART;TZID=America/New_York:20211001T100000
DTEND;TZID=America/New_York:20211001T110000
DTSTAMP:20260423T204210
CREATED:20210108T163307Z
LAST-MODIFIED:20210108T163307Z
UID:10000383-1633082400-1633086000@fscpm.org
SUMMARY:Southwest Florida Chapter Board Meeting via Zoom
DESCRIPTION:
URL:https://fscpm.org/event/southwest-florida-chapter-board-meeting-via-zoom-7/2021-10-01/
CATEGORIES:Southwest Florida Chapter
END:VEVENT
BEGIN:VEVENT
DTSTART;TZID=America/New_York:20210917T113000
DTEND;TZID=America/New_York:20210917T123000
DTSTAMP:20260423T204210
CREATED:20201214T155236Z
LAST-MODIFIED:20201214T155236Z
UID:10000364-1631878200-1631881800@fscpm.org
SUMMARY:Monthly FSCPM Board Meeting via Zoom
DESCRIPTION:
URL:https://fscpm.org/event/monthly-fscpm-board-meeting-via-zoom/2021-09-17/
CATEGORIES:FSCPM
END:VEVENT
BEGIN:VEVENT
DTSTART;TZID=America/New_York:20210915T153000
DTEND;TZID=America/New_York:20210915T163000
DTSTAMP:20260423T204210
CREATED:20210108T133625Z
LAST-MODIFIED:20210108T134014Z
UID:10000376-1631719800-1631723400@fscpm.org
SUMMARY:Central Florida Chapter Board Meetings via Zoom
DESCRIPTION:
URL:https://fscpm.org/event/central-florida-chapter-board-meetings-via-zoom/2021-09-15/
END:VEVENT
BEGIN:VEVENT
DTSTART;TZID=America/New_York:20210909T120000
DTEND;TZID=America/New_York:20210909T150000
DTSTAMP:20260423T204210
CREATED:20200921T183845Z
LAST-MODIFIED:20210716T170146Z
UID:10000330-1631188800-1631199600@fscpm.org
SUMMARY:Gateway Chapter Meetings via Zoom
DESCRIPTION:
URL:https://fscpm.org/event/gateway-chapter-meetings-via-zoom/2021-09-09/
CATEGORIES:Gateway Chapter
END:VEVENT
BEGIN:VEVENT
DTSTART;TZID=America/New_York:20210903T100000
DTEND;TZID=America/New_York:20210903T110000
DTSTAMP:20260423T204210
CREATED:20210108T163307Z
LAST-MODIFIED:20210108T163307Z
UID:10000382-1630663200-1630666800@fscpm.org
SUMMARY:Southwest Florida Chapter Board Meeting via Zoom
DESCRIPTION:
URL:https://fscpm.org/event/southwest-florida-chapter-board-meeting-via-zoom-7/2021-09-03/
CATEGORIES:Southwest Florida Chapter
END:VEVENT
BEGIN:VEVENT
DTSTART;TZID=America/New_York:20210820T113000
DTEND;TZID=America/New_York:20210820T123000
DTSTAMP:20260423T204210
CREATED:20201214T155236Z
LAST-MODIFIED:20201214T155236Z
UID:10000363-1629459000-1629462600@fscpm.org
SUMMARY:Monthly FSCPM Board Meeting via Zoom
DESCRIPTION:
URL:https://fscpm.org/event/monthly-fscpm-board-meeting-via-zoom/2021-08-20/
CATEGORIES:FSCPM
END:VEVENT
BEGIN:VEVENT
DTSTART;TZID=America/New_York:20210818T153000
DTEND;TZID=America/New_York:20210818T163000
DTSTAMP:20260423T204210
CREATED:20210108T133625Z
LAST-MODIFIED:20210108T134014Z
UID:10000375-1629300600-1629304200@fscpm.org
SUMMARY:Central Florida Chapter Board Meetings via Zoom
DESCRIPTION:
URL:https://fscpm.org/event/central-florida-chapter-board-meetings-via-zoom/2021-08-18/
END:VEVENT
BEGIN:VEVENT
DTSTART;TZID=America/New_York:20210813T113000
DTEND;TZID=America/New_York:20210813T130000
DTSTAMP:20260423T204210
CREATED:20201214T132953Z
LAST-MODIFIED:20201214T132953Z
UID:10000351-1628854200-1628859600@fscpm.org
SUMMARY:Heart of Florida Chapter Board & Membership Meeting via Zoom
DESCRIPTION:
URL:https://fscpm.org/event/heart-of-florida-chapter-board-membership-meeting-via-zoom/2021-08-13/
CATEGORIES:Heart of Florida
END:VEVENT
BEGIN:VEVENT
DTSTART;TZID=America/New_York:20210812T120000
DTEND;TZID=America/New_York:20210812T150000
DTSTAMP:20260423T204210
CREATED:20200921T183845Z
LAST-MODIFIED:20210716T170146Z
UID:10000329-1628769600-1628780400@fscpm.org
SUMMARY:Gateway Chapter Meetings via Zoom
DESCRIPTION:
URL:https://fscpm.org/event/gateway-chapter-meetings-via-zoom/2021-08-12/
CATEGORIES:Gateway Chapter
END:VEVENT
BEGIN:VEVENT
DTSTART;TZID=America/New_York:20210806T100000
DTEND;TZID=America/New_York:20210806T110000
DTSTAMP:20260423T204210
CREATED:20210108T163307Z
LAST-MODIFIED:20210108T163307Z
UID:10000381-1628244000-1628247600@fscpm.org
SUMMARY:Southwest Florida Chapter Board Meeting via Zoom
DESCRIPTION:
URL:https://fscpm.org/event/southwest-florida-chapter-board-meeting-via-zoom-7/2021-08-06/
CATEGORIES:Southwest Florida Chapter
END:VEVENT
BEGIN:VEVENT
DTSTART;TZID=America/New_York:20210721T153000
DTEND;TZID=America/New_York:20210721T163000
DTSTAMP:20260423T204210
CREATED:20210108T133625Z
LAST-MODIFIED:20210108T134014Z
UID:10000374-1626881400-1626885000@fscpm.org
SUMMARY:Central Florida Chapter Board Meetings via Zoom
DESCRIPTION:
URL:https://fscpm.org/event/central-florida-chapter-board-meetings-via-zoom/2021-07-21/
END:VEVENT
BEGIN:VEVENT
DTSTART;TZID=America/New_York:20210716T113000
DTEND;TZID=America/New_York:20210716T123000
DTSTAMP:20260423T204210
CREATED:20201214T155236Z
LAST-MODIFIED:20201214T155236Z
UID:10000362-1626435000-1626438600@fscpm.org
SUMMARY:Monthly FSCPM Board Meeting via Zoom
DESCRIPTION:
URL:https://fscpm.org/event/monthly-fscpm-board-meeting-via-zoom/2021-07-16/
CATEGORIES:FSCPM
END:VEVENT
BEGIN:VEVENT
DTSTART;TZID=America/New_York:20210709T113000
DTEND;TZID=America/New_York:20210709T130000
DTSTAMP:20260423T204210
CREATED:20201214T132953Z
LAST-MODIFIED:20201214T132953Z
UID:10000350-1625830200-1625835600@fscpm.org
SUMMARY:Heart of Florida Chapter Board & Membership Meeting via Zoom
DESCRIPTION:
URL:https://fscpm.org/event/heart-of-florida-chapter-board-membership-meeting-via-zoom/2021-07-09/
CATEGORIES:Heart of Florida
END:VEVENT
END:VCALENDAR