BEGIN:VCALENDAR
VERSION:2.0
PRODID:-//Florida Society of Certified Public Managers - ECPv6.15.20//NONSGML v1.0//EN
CALSCALE:GREGORIAN
METHOD:PUBLISH
X-ORIGINAL-URL:https://fscpm.org
X-WR-CALDESC:Events for Florida Society of Certified Public Managers
REFRESH-INTERVAL;VALUE=DURATION:PT1H
X-Robots-Tag:noindex
X-PUBLISHED-TTL:PT1H
BEGIN:VTIMEZONE
TZID:America/New_York
BEGIN:DAYLIGHT
TZOFFSETFROM:-0500
TZOFFSETTO:-0400
TZNAME:EDT
DTSTART:20220313T070000
END:DAYLIGHT
BEGIN:STANDARD
TZOFFSETFROM:-0400
TZOFFSETTO:-0500
TZNAME:EST
DTSTART:20221106T060000
END:STANDARD
BEGIN:DAYLIGHT
TZOFFSETFROM:-0500
TZOFFSETTO:-0400
TZNAME:EDT
DTSTART:20230312T070000
END:DAYLIGHT
BEGIN:STANDARD
TZOFFSETFROM:-0400
TZOFFSETTO:-0500
TZNAME:EST
DTSTART:20231105T060000
END:STANDARD
BEGIN:DAYLIGHT
TZOFFSETFROM:-0500
TZOFFSETTO:-0400
TZNAME:EDT
DTSTART:20240310T070000
END:DAYLIGHT
BEGIN:STANDARD
TZOFFSETFROM:-0400
TZOFFSETTO:-0500
TZNAME:EST
DTSTART:20241103T060000
END:STANDARD
BEGIN:DAYLIGHT
TZOFFSETFROM:-0500
TZOFFSETTO:-0400
TZNAME:EDT
DTSTART:20250309T070000
END:DAYLIGHT
BEGIN:STANDARD
TZOFFSETFROM:-0400
TZOFFSETTO:-0500
TZNAME:EST
DTSTART:20251102T060000
END:STANDARD
BEGIN:DAYLIGHT
TZOFFSETFROM:-0500
TZOFFSETTO:-0400
TZNAME:EDT
DTSTART:20260308T070000
END:DAYLIGHT
BEGIN:STANDARD
TZOFFSETFROM:-0400
TZOFFSETTO:-0500
TZNAME:EST
DTSTART:20261101T060000
END:STANDARD
END:VTIMEZONE
BEGIN:VEVENT
DTSTART;TZID=America/New_York:20250331T113000
DTEND;TZID=America/New_York:20250331T133000
DTSTAMP:20260423T145734
CREATED:20250103T134819Z
LAST-MODIFIED:20250314T172501Z
UID:10000611-1743420600-1743427800@fscpm.org
SUMMARY:Southwest Florida CPM Refresher - In person
DESCRIPTION:Members: FREE \nNon-Members $20.00
URL:https://fscpm.org/event/southwest-florida-cpm-refresher-in-person/
LOCATION:2201 Second Street\, 1st Floor\, Fort Myers\, FL 33901\, 2201 Second Street\, 1st Floor\, Fort Myers\, FL\, 33901\, United States
CATEGORIES:Southwest Florida Chapter
ATTACH;FMTTYPE=image/png:https://fscpm.org/wp-content/uploads/2025/01/SWFL-Chapter-Certified-Public-Managers-presents-Lunch-Learn-Series-Speaker-Lynn-Chisolm-Topic-Understanding-Others-and-being-Understood-2.png
END:VEVENT
BEGIN:VEVENT
DTSTART;TZID=America/New_York:20250113T113000
DTEND;TZID=America/New_York:20250113T133000
DTSTAMP:20260423T145734
CREATED:20250103T134520Z
LAST-MODIFIED:20250107T172820Z
UID:10000609-1736767800-1736775000@fscpm.org
SUMMARY:Southwest Florida CPM Refresher - In Person Training
DESCRIPTION:RSVP Link: SW FL CPM Level 5 Refresher – January 13th \n 
URL:https://fscpm.org/event/southwest-florida-cpm-refresher-in-person-training/
LOCATION:2201 Second Street\, 1st Floor\, Fort Myers\, FL 33901\, 2201 Second Street\, 1st Floor\, Fort Myers\, FL\, 33901\, United States
CATEGORIES:Southwest Florida Chapter
ATTACH;FMTTYPE=application/pdf:https://fscpm.org/wp-content/uploads/2025/01/Blue-White-Illustrative-Meet-and-Greet-Instagram-Post-1-1.pdf
END:VEVENT
BEGIN:VEVENT
DTSTART;TZID=America/New_York:20240722T113000
DTEND;TZID=America/New_York:20240722T130000
DTSTAMP:20260423T145734
CREATED:20240605T153910Z
LAST-MODIFIED:20240605T155748Z
UID:10000535-1721647800-1721653200@fscpm.org
SUMMARY:Southwest Florida Professional Development Opportunity - In Person
DESCRIPTION:
URL:https://fscpm.org/event/southwest-florida-professional-development-opportunity-in-person/
LOCATION:2201 Second Street\, 1st Floor\, Fort Myers\, FL 33901\, 2201 Second Street\, 1st Floor\, Fort Myers\, FL\, 33901\, United States
CATEGORIES:Southwest Florida Chapter
END:VEVENT
BEGIN:VEVENT
DTSTART;TZID=America/New_York:20231204T113000
DTEND;TZID=America/New_York:20231204T133000
DTSTAMP:20260423T145734
CREATED:20231117T132315Z
LAST-MODIFIED:20231117T132315Z
UID:10000486-1701689400-1701696600@fscpm.org
SUMMARY:Level 3 & 4 CPM Refresher Course In Person-Southwest Florida Chapter
DESCRIPTION:
URL:https://fscpm.org/event/level-3-4-cpm-refresher-course-in-person-southwest-florida-chapter/
LOCATION:2201 Second Street\, 1st Floor\, Fort Myers\, FL 33901\, 2201 Second Street\, 1st Floor\, Fort Myers\, FL\, 33901\, United States
CATEGORIES:Southwest Florida Chapter,Training
END:VEVENT
END:VCALENDAR